BEGIN:VCALENDAR
VERSION:2.0
PRODID:-//ChamberMaster//Event Calendar 2.0//EN
METHOD:PUBLISH
X-PUBLISHED-TTL:P3D
REFRESH-INTERVAL:P3D
CALSCALE:GREGORIAN
BEGIN:VEVENT
DTSTART:20241109T150000Z
DTEND:20241110T000000Z
X-MICROSOFT-CDO-ALLDAYEVENT:FALSE
SUMMARY:Antique-ish Mall's Business Anniversary Party
DESCRIPTION:Join us in celebrating our 7th anniversary and the journey that got us here!
X-ALT-DESC;FMTTYPE=text/html:<strong><span background-color:="" font-size:="" segoe="" ui="">Join us in celebrating our 7th anniversary and the journey that got us here!</span></strong>
LOCATION:Antique-ish Mall 840 W Harmony St Neosho\, Mo.
UID:e.2144.13919
SEQUENCE:3
DTSTAMP:20260424T173925Z
URL:https://www.neoshocc.com/events/details/antique-ish-mall-s-business-anniversary-party-13919
END:VEVENT

END:VCALENDAR
