BEGIN:VCALENDAR
VERSION:2.0
PRODID:-//ChamberMaster//Event Calendar 2.0//EN
METHOD:PUBLISH
X-PUBLISHED-TTL:P3D
REFRESH-INTERVAL:P3D
CALSCALE:GREGORIAN
BEGIN:VEVENT
DTSTART:20230223T010000Z
DTEND:20230223T030000Z
X-MICROSOFT-CDO-ALLDAYEVENT:FALSE
SUMMARY:Aquilla Theatre: "Pride & Prejudice"
DESCRIPTION:Connect2Culture presents Aquila Theatre in Jane Austen's "Pride & Prejudice" on Wednesday\, February 22\, 7:00pm at the Harry M. Cornell Arts & Entertainment Complex! Jane Austen's ultimate romantic comedy comes to life on stage with unforgettable characters\, wit\, romance\, and lots of dancing. Tickets are available at connect2culture.org/tickets or (417) 501-5550.
X-ALT-DESC;FMTTYPE=text/html:Connect2Culture presents Aquila Theatre in Jane Austen&rsquo\;s &ldquo\;Pride &amp\; Prejudice&rdquo\; on Wednesday\, February 22\, 7:00pm at the Harry M. Cornell Arts &amp\; Entertainment Complex! Jane Austen&rsquo\;s ultimate romantic comedy comes to life on stage with unforgettable characters\, wit\, romance\, and lots of dancing. Tickets are available at connect2culture.org/tickets or (417) 501-5550.
LOCATION:Harry M. Cornell Arts & Entertainment Complex located at 212 West 7th Street\, Joplin\, MO 64801
UID:e.2144.9082
SEQUENCE:3
DTSTAMP:20260426T003947Z
URL:https://www.neoshocc.com/events/details/aquilla-theatre-pride-prejudice-9082
END:VEVENT

END:VCALENDAR
