BEGIN:VCALENDAR
VERSION:2.0
PRODID:-//ChamberMaster//Event Calendar 2.0//EN
METHOD:PUBLISH
X-PUBLISHED-TTL:P3D
REFRESH-INTERVAL:P3D
CALSCALE:GREGORIAN
BEGIN:VEVENT
DTSTART:20250201T160000Z
DTEND:20250201T230000Z
X-MICROSOFT-CDO-ALLDAYEVENT:FALSE
SUMMARY:ArtCon 2025
DESCRIPTION:ArtCon February 1\, 2025\n\n10:00am - 5:00pm\n\nNeosho Jr. High\n\n$5 admission\, Age 5 & under is free\n\nTickets on sale now at neoshoarts.net\n\n \n\nComics | SciFi | Anime | ESports | Cosplay | & More!\n\nA pop culture Convention for Everyone!\n\n \n\nMeet special guest actor Tony Amendola from Stargate SG1\, Once Upon a Time\, and more!\n\n\n\nPlus comic creators Ande Parks\, Jeremy Haun\, and Kevin Mellon!\n\n\n\n\n\nEnjoy free Q&A panels\n\nAutographs and Photo Ops\n\nCash prizes in the cosplay contest and Smash Brothers tournament\n\nPlay Dungeons and Dragons\, Magic the Gathering\, and Board Games\n\nSpecialty vendors and artist alley!
X-ALT-DESC;FMTTYPE=text/html:<div>ArtCon February 1\, 2025<br />\n10:00am - 5:00pm<br />\nNeosho Jr. High<br />\n$5 admission\, Age 5 &amp\; under is free<br />\nTickets on sale now at <a class="x1i10hfl xjbqb8w x6umtig x1b1mbwd xaqea5y xav7gou x9f619 x1ypdohk xt0psk2 xe8uvvx xdj266r x11i5rnm xat24cr x1mh8g0r xexx8yu x4uap5 x18d9i69 xkhd6sd x16tdsg8 x1hl2dhg xggy1nq x1a2a7pz xt0b8zv x1fey0fg" href="http://neoshoarts.net/?fbclid=IwAR1GESmarVNoDODAAWLaJHrwev_9djrX--6vWxuQl3doKiWp6hFltC-nZsY" rel="nofollow noopener" tabindex="0" target="_blank">neoshoarts.net</a></div>\n\n<div>&nbsp\;</div>\n\n<div>Comics | SciFi | Anime | ESports | Cosplay | &amp\; More!<br />\nA pop culture Convention for Everyone!<br />\n&nbsp\;</div>\n\n<div>Meet special guest actor <span dir="auto"><span dir="auto" style="color:rgb(19\, 19\, 19)">Tony Amendola from Stargate SG1\, Once Upon a Time\, and more!</span></span><br />\n<br />\nPlus comic creators Ande Parks\, Jeremy Haun\, and Kevin Mellon!</div>\n\n<div><br />\n<br />\nEnjoy free Q&amp\;A panels<br />\nAutographs and Photo Ops<br />\nCash prizes in the cosplay contest and Smash Brothers tournament<br />\nPlay Dungeons and Dragons\, Magic the Gathering\, and Board Games<br />\nSpecialty vendors and artist alley!</div>\n
LOCATION:Neosho Jr. High
UID:e.2144.14374
SEQUENCE:3
DTSTAMP:20260424T132709Z
URL:https://www.neoshocc.com/events/details/artcon-2025-14374
END:VEVENT

END:VCALENDAR
