BEGIN:VCALENDAR
VERSION:2.0
PRODID:-//ChamberMaster//Event Calendar 2.0//EN
METHOD:PUBLISH
X-PUBLISHED-TTL:P3D
REFRESH-INTERVAL:P3D
CALSCALE:GREGORIAN
BEGIN:VEVENT
DTSTART:20260207T160000Z
DTEND:20260207T230000Z
X-MICROSOFT-CDO-ALLDAYEVENT:FALSE
SUMMARY:ArtCon 2026
DESCRIPTION:Get Ready for ArtCon!\n\nFebruary 7\, 2026 | 10:00 AM   5:00 PM\n\nNeosho Jr. High\n\nAdmission: Only $5! (Kids 5 & under get in free)\n\nTickets available at neoshoarts.net\n\n\n\nDive into a world of comics\, collectibles\, and cosplay at ArtCon February 7   Neosho's ultimate celebration of Comics\, Sci-Fi\, Anime\, Esports\, Cosplay\, and more!\n\n\n\nMeet incredible guests including Star Trek's "Leeta" Chase Masterson and Clay Adams from Yu-Gi-Oh! and Teenage Mutant Ninja Turtles. Plus\, connect with comic creators Ande Parks\, Megan Levens\, and Kevin Mellon.\n\n\n\nExperience a full day packed with excitement:\n\n	    Free Q&A panels with special guests\n	    Autographs and photo ops\n	    Cosplay contest and Smash Brothers tournament with cash prizes\n	    Dungeons & Dragons\, Magic: The Gathering\, and board games\n	    Explore specialty vendors and the artist alley\n\n\n\nAll for just $5   keeping it fun and affordable for the whole community!\n\nEvery ticket helps support the work of the Neosho Arts Council.\n\n\n\nArtCon 2026   A Pop Culture Convention for Everyone!
X-ALT-DESC;FMTTYPE=text/html:Get Ready for ArtCon!<br />\nFebruary 7\, 2026 | 10:00 AM &ndash\; 5:00 PM<br />\nNeosho Jr. High<br />\nAdmission: Only $5! (Kids 5 &amp\; under get in free)<br />\nTickets available at neoshoarts.net<br />\n<br />\nDive into a world of comics\, collectibles\, and cosplay at ArtCon February 7 &mdash\; Neosho&rsquo\;s ultimate celebration of Comics\, Sci-Fi\, Anime\, Esports\, Cosplay\, and more!<br />\n<br />\nMeet incredible guests including Star Trek&rsquo\;s &ldquo\;Leeta&rdquo\; Chase Masterson and Clay Adams from Yu-Gi-Oh! and Teenage Mutant Ninja Turtles. Plus\, connect with comic creators Ande Parks\, Megan Levens\, and Kevin Mellon.<br />\n<br />\nExperience a full day packed with excitement:\n<ul>\n	<li>&nbsp\; &nbsp\; Free Q&amp\;A panels with special guests</li>\n	<li>&nbsp\; &nbsp\; Autographs and photo ops</li>\n	<li>&nbsp\; &nbsp\; Cosplay contest and Smash Brothers tournament with cash prizes</li>\n	<li>&nbsp\; &nbsp\; Dungeons &amp\; Dragons\, Magic: The Gathering\, and board games</li>\n	<li>&nbsp\; &nbsp\; Explore specialty vendors and the artist alley</li>\n</ul>\n<br />\n<strong>All for just $5 &mdash\; keeping it fun and affordable for the whole community!</strong><br />\nEvery ticket helps support the work of the Neosho Arts Council.<br />\n<br />\nArtCon 2026 &mdash\; A Pop Culture Convention for Everyone!
LOCATION:Neosho Jr. High 14646 Kodiak Rd Neosho\, MO 64850
UID:e.2144.18820
SEQUENCE:3
DTSTAMP:20260423T192932Z
URL:https://www.neoshocc.com/events/details/artcon-2026-18820
END:VEVENT

END:VCALENDAR
