BEGIN:VCALENDAR
VERSION:2.0
PRODID:-//ChamberMaster//Event Calendar 2.0//EN
METHOD:PUBLISH
X-PUBLISHED-TTL:P3D
REFRESH-INTERVAL:P3D
CALSCALE:GREGORIAN
BEGIN:VEVENT
DTSTART:20240413T150000Z
DTEND:20240413T190000Z
X-MICROSOFT-CDO-ALLDAYEVENT:FALSE
SUMMARY:Artisans Market at Falcon Lake Farm
DESCRIPTION:Local artists gathering to share their creativity.  Good food will be available.  One of our vendors is bringing baby chicks and baby ducks to sell!!!
X-ALT-DESC;FMTTYPE=text/html:Local artists gathering to share their creativity.&nbsp\; Good food will be available.&nbsp\; One of our vendors is bringing baby chicks and baby ducks to sell!!!
LOCATION:
UID:e.2144.11513
SEQUENCE:3
DTSTAMP:20260425T031909Z
URL:https://www.neoshocc.com/events/details/artisans-market-at-falcon-lake-farm-04-13-2024-11513
END:VEVENT

END:VCALENDAR
