BEGIN:VCALENDAR
VERSION:2.0
PRODID:-//ChamberMaster//Event Calendar 2.0//EN
METHOD:PUBLISH
X-PUBLISHED-TTL:P3D
REFRESH-INTERVAL:P3D
CALSCALE:GREGORIAN
BEGIN:VEVENT
DTSTART:20240622T160000Z
DTEND:20240622T200000Z
X-MICROSOFT-CDO-ALLDAYEVENT:FALSE
SUMMARY:Artisans Market at Falcon Lake Farm
DESCRIPTION:Summertime event at Falcon Lake Farm Gathering Place.  Vendors\, Alpacas\, All Beef Hot Dogs and Hamburgers with Spiral Potato Chips\, free beverages.
X-ALT-DESC;FMTTYPE=text/html:Summertime event at Falcon Lake Farm Gathering Place.&nbsp\; Vendors\, Alpacas\, All Beef Hot Dogs and Hamburgers with Spiral Potato Chips\, free beverages.&nbsp\;
LOCATION:Falcon Lake Farm Gathering Place 8250 Irene Lane Neosho\, Missouri 64850
UID:e.2144.12136
SEQUENCE:3
DTSTAMP:20260425T004350Z
URL:https://www.neoshocc.com/events/details/artisans-market-at-falcon-lake-farm-06-22-2024-12136
END:VEVENT

END:VCALENDAR
