BEGIN:VCALENDAR
VERSION:2.0
PRODID:-//ChamberMaster//Event Calendar 2.0//EN
METHOD:PUBLISH
X-PUBLISHED-TTL:P3D
REFRESH-INTERVAL:P3D
CALSCALE:GREGORIAN
BEGIN:VEVENT
DTSTART:20241012T150000Z
DTEND:20241012T200000Z
X-MICROSOFT-CDO-ALLDAYEVENT:FALSE
SUMMARY:Artisans Market at Falcon Lake Farm
DESCRIPTION:FALCON LAKE FARM ARTISANS MARKET\n\nOCTOBER 12TH \n\n10AM TO 3PM
X-ALT-DESC;FMTTYPE=text/html:FALCON LAKE FARM ARTISANS MARKET<br />\nOCTOBER 12TH&nbsp\;<br />\n10AM TO 3PM<br />\n&nbsp\;
LOCATION:8250 IRENE LANE NEOSHO MO 64850
UID:e.2144.13720
SEQUENCE:3
DTSTAMP:20260424T190924Z
URL:https://www.neoshocc.com/events/details/artisans-market-at-falcon-lake-farm-10-12-2024-13720
END:VEVENT

END:VCALENDAR
