BEGIN:VCALENDAR
VERSION:2.0
PRODID:-//ChamberMaster//Event Calendar 2.0//EN
METHOD:PUBLISH
X-PUBLISHED-TTL:P3D
REFRESH-INTERVAL:P3D
CALSCALE:GREGORIAN
BEGIN:VEVENT
DTSTART:20250927T140000Z
DTEND:20250927T210000Z
X-MICROSOFT-CDO-ALLDAYEVENT:FALSE
SUMMARY:Autumnfest of the Ozarks
DESCRIPTION:Join us as we celebrate the 7th Annual Autumnfest of the Ozarks in Neosho\, MO. Indoor and outdoor booths from artists\, vendors and groups from the area. Motor Show. Kids Games. Food trucks. Pack the family\, admission is just $10 per car! Pet Parade Contest\, Cornhole Competition and so much more!!!
X-ALT-DESC;FMTTYPE=text/html:Join us as we celebrate the 7th Annual Autumnfest of the Ozarks in Neosho\, MO. Indoor and outdoor booths from artists\, vendors and groups from the area. Motor Show. Kids Games. Food trucks. Pack the family\, admission is just $10 per car! Pet Parade Contest\, Cornhole Competition and so much more!!!
LOCATION:Newton County Fair Ground
UID:e.2144.18467
SEQUENCE:3
DTSTAMP:20260424T043417Z
URL:https://www.neoshocc.com/events/details/autumnfest-of-the-ozarks-09-27-2025-18467
END:VEVENT

END:VCALENDAR
