BEGIN:VCALENDAR
VERSION:2.0
PRODID:-//ChamberMaster//Event Calendar 2.0//EN
METHOD:PUBLISH
X-PUBLISHED-TTL:P3D
REFRESH-INTERVAL:P3D
CALSCALE:GREGORIAN
BEGIN:VEVENT
DTSTART;VALUE=DATE:20240808
DTEND;VALUE=DATE:20240811
TRANSP:TRANSPARENT
X-MICROSOFT-CDO-ALLDAYEVENT:TRUE
SUMMARY:Balloon Pop Discount Event
DESCRIPTION:Come Pop Your Balloon!\n\nThere will be plenty to pop!\nWe can't wait to see your face when you pop your balloon.\n\nWhen you check out\, you select a balloon to pop. Inside that balloon\, you will find either a dollar amount discount ($1 to $5)  or a percentage discount (10% to 50%) that will be applied to your purchase.\n\nAll merchandise is included in the sale.\n\n\n\nSee you at The Foundry!\n\n342 N. Main Street\n\nGranby\, Missouri\n\nOpen:  Thursday 2 to 6 and\n\nFriday & Saturday 10 to 5
X-ALT-DESC;FMTTYPE=text/html:<h1><span style="font-family:tahoma"><strong>Come Pop Your Balloon!</strong></span></h1>\n\n<h2><span style="font-family:tahoma">There will be plenty to pop!</span></h2>\nWe can&#39\;t wait to see your face when you pop your balloon.<br />\nWhen you check out\, you select a balloon to pop. Inside that balloon\, you will find&nbsp\;either a dollar amount discount ($1 to $5)&nbsp\; or a percentage discount (10% to 50%) that will be applied to your purchase.<br />\nAll merchandise is included in the sale.<br />\n<br />\nSee you at The Foundry!<br />\n342 N. Main Street<br />\nGranby\, Missouri<br />\nOpen:&nbsp\; Thursday 2 to 6 and<br />\nFriday &amp\; Saturday 10 to 5<br />\n&nbsp\;
LOCATION:See you at The Foundry! 342 N. Main Street Granby\, Missouri
UID:e.2144.12238
SEQUENCE:3
DTSTAMP:20260424T215402Z
URL:https://www.neoshocc.com/events/details/balloon-pop-discount-event-12238
END:VEVENT

END:VCALENDAR
