BEGIN:VCALENDAR
VERSION:2.0
PRODID:-//ChamberMaster//Event Calendar 2.0//EN
METHOD:PUBLISH
X-PUBLISHED-TTL:P3D
REFRESH-INTERVAL:P3D
CALSCALE:GREGORIAN
BEGIN:VEVENT
DTSTART:20250621T233000Z
DTEND:20250622T003000Z
X-MICROSOFT-CDO-ALLDAYEVENT:FALSE
SUMMARY:Big Spring Park Free Concert Series 2025 Featuring Dandelion Heart
DESCRIPTION:Neosho Arts Council presents the Big Spring Park Free Concert Series 2025\n\nFeaturing Dandelion Heart\n\nJune 21\, 2025 | 6:30pm | Live in historic Big Spring Park in Neosho\, MO\nThe arts council will wrap up their concert series on June 21 with a celebration of Make Music Day featuring the Americana/Indie Rock group\, Dandelion Heart. The group strives to capture the beauty in simplicity with penetrating harmonies while featuring a blend of folk\, bluegrass\, rock\, and indie sounds.\n\nThese concerts are free and open for everyone to attend. Neosho Arts Council hopes families will join us and help nurture the next generation of music lovers! The arts council will be holding a sidewalk chalk fun draw during each concert.\n\nThe performance will begin at 6:30pm on the south side of Big Spring Park (309 W. Spring Street) in Neosho. There is no cost to attend. Attendees should bring a lawn chair or blanket with them. In case of rain the performance will move indoors. You can learn more about each performance by visiting neoshoarts.net.
X-ALT-DESC;FMTTYPE=text/html:<p>Neosho Arts Council presents the Big Spring Park Free Concert Series 2025<br />\nFeaturing Dandelion Heart</p>\n\n<p>June 21\, 2025 | 6:30pm | Live in historic Big Spring Park in Neosho\, MO</p>\nThe arts council will wrap up their concert series on June 21 with a celebration of Make Music Day featuring the Americana/Indie Rock group\, Dandelion Heart. The group strives to capture the beauty in simplicity with penetrating harmonies while featuring a blend of folk\, bluegrass\, rock\, and indie sounds.\n\n<p>These concerts are free and open for everyone to attend. Neosho Arts Council hopes families will join us and help nurture the next generation of music lovers! The arts council will be holding a sidewalk chalk fun draw during each concert.</p>\n\n<p>The performance will begin at 6:30pm on the south side of Big Spring Park (309 W. Spring Street) in Neosho. There is no cost to attend. Attendees should bring a lawn chair or blanket with them. In case of rain the performance will move indoors. You can learn more about each performance by visiting neoshoarts.net.</p>\n
LOCATION:Big Spring Park Neosho\, MO 64850
UID:e.2144.16428
SEQUENCE:3
DTSTAMP:20260424T074228Z
URL:https://www.neoshocc.com/events/details/big-spring-park-free-concert-series-2025-featuring-dandelion-heart-16428
END:VEVENT

END:VCALENDAR
