BEGIN:VCALENDAR
VERSION:2.0
PRODID:-//ChamberMaster//Event Calendar 2.0//EN
METHOD:PUBLISH
X-PUBLISHED-TTL:P3D
REFRESH-INTERVAL:P3D
CALSCALE:GREGORIAN
BEGIN:VEVENT
DTSTART:20240416T233000Z
DTEND:20240417T003000Z
X-MICROSOFT-CDO-ALLDAYEVENT:FALSE
SUMMARY:Big Spring Park Free Concert Series: Asher Perkins
DESCRIPTION:Grab your lawn chairs and join Neosho Arts Council for an evening of live music in Neosho's Big Spring Park. Enjoy a free concert on April 16 at 6:30pm featuring jazz and blue guitarist Asher Perkins.\n\n \n\n\n\nFor more information visit neoshoarts.net.
X-ALT-DESC;FMTTYPE=text/html:<div>\n<div style="text-align:start">Grab your lawn chairs and join Neosho Arts Council for an evening of live music in Neosho&#39\;s Big Spring Park. Enjoy a free concert on April 16 at 6:30pm featuring jazz and blue guitarist Asher Perkins.<br />\n&nbsp\;</div>\n</div>\n\n<div>\n<div style="text-align:start">For more information visit <a class="x1i10hfl xjbqb8w x1ejq31n xd10rxx x1sy0etr x17r0tee x972fbf xcfux6l x1qhh985 xm0m39n x9f619 x1ypdohk xt0psk2 xe8uvvx xdj266r x11i5rnm xat24cr x1mh8g0r xexx8yu x4uap5 x18d9i69 xkhd6sd x16tdsg8 x1hl2dhg xggy1nq x1a2a7pz xt0b8zv x1fey0fg" href="https://l.facebook.com/l.php?u=http%3A%2F%2Fneoshoarts.net%2F%3Ffbclid%3DIwAR0dldm9slYOkJTBc06zRBw7C4vl9bQST6tvh_YfjCpjEBpFU_bOBjJ7dH0&amp\;h=AT00wjW8cBLaI3pZXEnxv_rLCkzKr3aPqTBJ6BFq3QfjH7XdT4pJn166FKaqtgF7ezzejLAH01kZAdweojeMe3nQ6J-H_ZZQlzuPMjnuEzo_O9vnkNHSu_0h462kckryfA&amp\;__tn__=-UK-R&amp\;c[0]=AT1J89yia_Xh52wX92B8maxNi0-iBOqDupE6XOoGTVbjt5omlONAdLawZaDh1zjsF9fMrWrdS2A5ACfGdvxR-r7Ky2GCp331EQj3LqY1o1QU5WIKpKM3K6bRaCsBcMI_H9rUCW_fUVkGVwmausyooKX9_Qf1rg" rel="nofollow noreferrer" tabindex="0" target="_blank">neoshoarts.net.</a></div>\n</div>\n
LOCATION:Big Spring Park 309 West Spring Street Neosho\, MO 64850
UID:e.2144.11493
SEQUENCE:3
DTSTAMP:20260425T031741Z
URL:https://www.neoshocc.com/events/details/big-spring-park-free-concert-series-asher-perkins-11493
END:VEVENT

END:VCALENDAR
