BEGIN:VCALENDAR
VERSION:2.0
PRODID:-//ChamberMaster//Event Calendar 2.0//EN
METHOD:PUBLISH
X-PUBLISHED-TTL:P3D
REFRESH-INTERVAL:P3D
CALSCALE:GREGORIAN
BEGIN:VEVENT
DTSTART:20251109T000000Z
DTEND:20251109T020000Z
X-MICROSOFT-CDO-ALLDAYEVENT:FALSE
SUMMARY:Bingo Night at Indian Springs - NWM Band Fundraiser
DESCRIPTION:Join the Neosho Wildcat Marching Band Booster Club for a Bingo Night fundraiser at Indian Springs Brewing Company!
X-ALT-DESC;FMTTYPE=text/html:Join the Neosho Wildcat Marching Band Booster Club for a Bingo Night fundraiser at Indian Springs Brewing Company!
LOCATION:Indian Springs Brewing Company 109 E Main Street Neosho MO
UID:e.2144.18784
SEQUENCE:3
DTSTAMP:20260424T003336Z
URL:https://www.neoshocc.com/events/details/bingo-night-at-indian-springs-nwm-band-fundraiser-18784
END:VEVENT

END:VCALENDAR
