BEGIN:VCALENDAR
VERSION:2.0
PRODID:-//ChamberMaster//Event Calendar 2.0//EN
METHOD:PUBLISH
X-PUBLISHED-TTL:P3D
REFRESH-INTERVAL:P3D
CALSCALE:GREGORIAN
BEGIN:VEVENT
DTSTART:20241129T110000Z
DTEND:20241129T140000Z
X-MICROSOFT-CDO-ALLDAYEVENT:FALSE
SUMMARY:Black Friday Free Grab-N-Go Breakfast
DESCRIPTION:Get the fuel you need to do lots of shopping on Black Friday or need a break for all the shopping you have done. Come by Henley Place of Neosho!
X-ALT-DESC;FMTTYPE=text/html:Get the fuel you need to do lots of shopping on Black Friday or need a break for all the shopping you have done. Come by Henley Place of Neosho!&nbsp\;
LOCATION:Henley Place of Neosho 1105 Village Rd. Neosho\, Mo.
UID:e.2144.14139
SEQUENCE:3
DTSTAMP:20260424T173654Z
URL:https://www.neoshocc.com/events/details/black-friday-free-grab-n-go-breakfast-14139
END:VEVENT

END:VCALENDAR
