BEGIN:VCALENDAR
VERSION:2.0
PRODID:-//ChamberMaster//Event Calendar 2.0//EN
METHOD:PUBLISH
X-PUBLISHED-TTL:P3D
REFRESH-INTERVAL:P3D
CALSCALE:GREGORIAN
BEGIN:VEVENT
DTSTART:20260215T070000Z
DTEND:20260215T080000Z
X-MICROSOFT-CDO-ALLDAYEVENT:FALSE
SUMMARY:Blissful Self-Care: Nourishing Mind\, Body & Spirit
DESCRIPTION:Blissful Self-Care: Nourishing Mind\, Body & Spirit\n\nDate: Sunday\, February 15   1 2 PM CST\n\nShort Promo:\n\nSelf-care isn't selfish   it's sacred.\n\nEvent Description:\n\nExplore a fresh\, grounded approach to self-care that goes beyond bubble baths and into true nourishment for your mental\, emotional\, and physical well-being.\n\nThis workshop teaches you how to build sustainable\, guilt-free self-care habits that elevate your entire life.\n\nYou'll Learn:\n\n  How to create a self-care plan that actually works\n\n  Energy management and nervous system reset tools\n\n  How to reduce burnout and increase joy\n\nWho This Is For:\n\nBusy professionals\, caregivers\, parents\, teachers\, and anyone needing renewal.\n\nCTA:\n\nReserve your spot and refill your cup.\n\nhttps://www.livebliss.org/event-details/blissful-self-care-nourishing-mind-body-spirit
X-ALT-DESC;FMTTYPE=text/html:<h3><span style="color:rgb(0\, 0\, 0)"><span style="color:rgb(67\, 67\, 67)\; font-family:arial\,sans-serif\; font-size:14pt">Blissful Self-Care: Nourishing Mind\, Body &amp\; Spirit</span></span></h3>\n\n<p><span style="color:rgb(0\, 0\, 0)"><strong>Date:</strong><span style="font-family:tenor sans\,sans-serif\; font-size:11pt"> Sunday\, February 15 &bull\; 1&ndash\;2 PM CST</span></span></p>\n\n<p><span style="color:rgb(0\, 0\, 0)"><strong>Short Promo:</strong></span></p>\n\n<p><span style="color:rgb(0\, 0\, 0)"><span style="font-family:tenor sans\,sans-serif\; font-size:11pt">Self-care isn&rsquo\;t selfish &mdash\; it&rsquo\;s sacred.</span></span></p>\n\n<p><span style="color:rgb(0\, 0\, 0)"><strong>Event Description:</strong></span></p>\n\n<p><span style="color:rgb(0\, 0\, 0)"><span style="font-family:tenor sans\,sans-serif\; font-size:11pt">Explore a fresh\, grounded approach to self-care that goes beyond bubble baths and into true nourishment for your mental\, emotional\, and physical well-being.</span></span></p>\n\n<p><span style="color:rgb(0\, 0\, 0)"><span style="font-family:tenor sans\,sans-serif\; font-size:11pt">This workshop teaches you how to build sustainable\, guilt-free self-care habits that elevate your entire life.</span></span></p>\n\n<p><span style="color:rgb(0\, 0\, 0)"><strong>You&rsquo\;ll Learn:</strong></span></p>\n\n<p><span style="color:rgb(0\, 0\, 0)"><span style="font-family:tenor sans\,sans-serif\; font-size:11pt">&bull\; How to create a self-care plan that actually works</span></span></p>\n\n<p><span style="color:rgb(0\, 0\, 0)"><span style="font-family:tenor sans\,sans-serif\; font-size:11pt">&bull\; Energy management and nervous system reset tools</span></span></p>\n\n<p><span style="color:rgb(0\, 0\, 0)"><span style="font-family:tenor sans\,sans-serif\; font-size:11pt">&bull\; How to reduce burnout and increase joy</span></span></p>\n\n<p><span style="color:rgb(0\, 0\, 0)"><strong>Who This Is For:</strong></span></p>\n\n<p><span style="color:rgb(0\, 0\, 0)"><span style="font-family:tenor sans\,sans-serif\; font-size:11pt">Busy professionals\, caregivers\, parents\, teachers\, and anyone needing renewal.</span></span></p>\n\n<p><span style="color:rgb(0\, 0\, 0)"><strong>CTA:</strong></span></p>\n\n<p><span style="color:rgb(0\, 0\, 0)"><span style="font-family:tenor sans\,sans-serif\; font-size:11pt">Reserve your spot and refill your cup.</span></span></p>\n\n<p><span style="color:rgb(0\, 0\, 0)"><a href="https://www.livebliss.org/event-details/blissful-self-care-nourishing-mind-body-spirit" style="text-decoration: none\;"><u>https://www.livebliss.org/event-details/blissful-self-care-nourishing-mind-body-spirit</u></a></span></p>\n
LOCATION:404 S Neosho Blvd Suite D Neosho MO 64850
UID:e.2144.18837
SEQUENCE:3
DTSTAMP:20260423T194513Z
URL:https://www.neoshocc.com/events/details/blissful-self-care-nourishing-mind-body-spirit-18837
END:VEVENT

END:VCALENDAR
