BEGIN:VCALENDAR
VERSION:2.0
PRODID:-//ChamberMaster//Event Calendar 2.0//EN
METHOD:PUBLISH
X-PUBLISHED-TTL:P3D
REFRESH-INTERVAL:P3D
CALSCALE:GREGORIAN
BEGIN:VEVENT
DTSTART:20250831T010000Z
DTEND:20250831T040000Z
X-MICROSOFT-CDO-ALLDAYEVENT:FALSE
SUMMARY:Blues Doctors LIVE at Osage Spring
DESCRIPTION:Join us for a night of rockin' & groovin' with Blues Doctors! Stop in for dinner and drinks downstairs\, then head upstairs for pool\, live music and good times every weekend at Osage Spring!
X-ALT-DESC;FMTTYPE=text/html:Join us for a night of rockin&#39\; &amp\; groovin&#39\; with Blues Doctors! Stop in for dinner and drinks downstairs\, then head upstairs for pool\, live music and good times every weekend at Osage Spring!
LOCATION:200 E. Spring Street\, Neosho\, MO
UID:e.2144.18440
SEQUENCE:3
DTSTAMP:20260424T060213Z
URL:https://www.neoshocc.com/events/details/blues-doctors-live-at-osage-spring-18440
END:VEVENT

END:VCALENDAR
