BEGIN:VCALENDAR
VERSION:2.0
PRODID:-//ChamberMaster//Event Calendar 2.0//EN
METHOD:PUBLISH
X-PUBLISHED-TTL:P3D
REFRESH-INTERVAL:P3D
CALSCALE:GREGORIAN
BEGIN:VEVENT
DTSTART:20250606T230000Z
DTEND:20250607T020000Z
X-MICROSOFT-CDO-ALLDAYEVENT:FALSE
SUMMARY:Blues Doctors Live Music at Eastside Social
DESCRIPTION:Get ready to PARTY! The Blues Doctors are back at Eastside Social and are ready to jam. Be downtown June 6th from 6pm to 9pm for a great time.
X-ALT-DESC;FMTTYPE=text/html:<span style="color:rgb(35\, 31\, 32)\; font-family:brandon-grotesque\; font-size:22.4px">Get ready to PARTY! The Blues Doctors are back at Eastside Social and are ready to jam. Be downtown June 6th from 6pm to 9pm for a great time.</span>
LOCATION:The East side of the Historic Downtown Neosho Square
UID:e.2144.16466
SEQUENCE:3
DTSTAMP:20260424T074329Z
URL:https://www.neoshocc.com/events/details/blues-doctors-live-music-at-eastside-social-06-06-2025-16466
END:VEVENT

END:VCALENDAR
