BEGIN:VCALENDAR
VERSION:2.0
PRODID:-//ChamberMaster//Event Calendar 2.0//EN
METHOD:PUBLISH
X-PUBLISHED-TTL:P3D
REFRESH-INTERVAL:P3D
CALSCALE:GREGORIAN
BEGIN:VEVENT
DTSTART:20250913T230000Z
DTEND:20250914T020000Z
X-MICROSOFT-CDO-ALLDAYEVENT:FALSE
SUMMARY:Blues Doctors Live Music at Eastside Social
DESCRIPTION:Get ready to PARTY! The Blues Doctors are back at Eastside Social and are ready to jam. Be downtown September 13th from 6pm to 9pm.
X-ALT-DESC;FMTTYPE=text/html:<span style="color:rgb(35\, 31\, 32)\; font-family:brandon-grotesque\; font-size:19.337px">Get ready to PARTY! The Blues Doctors are back at Eastside Social and are ready to jam. Be downtown September 13th from 6pm to 9pm. </span>
LOCATION:113 S Washington St. Neosho\, Mo at Eastside Social
UID:e.2144.18437
SEQUENCE:3
DTSTAMP:20260424T043437Z
URL:https://www.neoshocc.com/events/details/blues-doctors-live-music-at-eastside-social-09-13-2025-18437
END:VEVENT

END:VCALENDAR
