BEGIN:VCALENDAR
VERSION:2.0
PRODID:-//ChamberMaster//Event Calendar 2.0//EN
METHOD:PUBLISH
X-PUBLISHED-TTL:P3D
REFRESH-INTERVAL:P3D
CALSCALE:GREGORIAN
BEGIN:VEVENT
DTSTART:20241019T230000Z
DTEND:20241020T020000Z
X-MICROSOFT-CDO-ALLDAYEVENT:FALSE
SUMMARY:Blues Doctors Live Music at Eastside Social
DESCRIPTION:Join us at Eastside Social for an unforgettable night with the Blues Doctors! ?? You won't want to miss this incredible performance on October 15th from 6pm to 9pm.
X-ALT-DESC;FMTTYPE=text/html:<span style="font-size:16px"><span style="color:rgb(35\, 31\, 32)\; font-family:brandon-grotesque">Join us at Eastside Social for an unforgettable night with the Blues Doctors! ?? You won&rsquo\;t want to miss this incredible performance on October 15th from 6pm to 9pm. </span></span>
LOCATION:113 S Washington St Neosho\, Mo at Eastside Social
UID:e.2144.13059
SEQUENCE:3
DTSTAMP:20260424T190925Z
URL:https://www.neoshocc.com/events/details/blues-doctors-live-music-at-eastside-social-10-19-2024-13059
END:VEVENT

END:VCALENDAR
