BEGIN:VCALENDAR
VERSION:2.0
PRODID:-//ChamberMaster//Event Calendar 2.0//EN
METHOD:PUBLISH
X-PUBLISHED-TTL:P3D
REFRESH-INTERVAL:P3D
CALSCALE:GREGORIAN
BEGIN:VEVENT
DTSTART;VALUE=DATE:20230606
DTEND;VALUE=DATE:20230607
TRANSP:TRANSPARENT
X-MICROSOFT-CDO-ALLDAYEVENT:TRUE
SUMMARY:Bobbing For Hot Dogs
DESCRIPTION:Bring your pet for a fun filled day at All Dogs Dream. We're setting up bobbing for hot dogs for our furry friends and seeing who can get the most\, who will end up swimming\, and who goes the fastest! Pet must be established with All Dogs Dream and be up to date on Rabies\, Parvo\, and Bordetella vaccines.
X-ALT-DESC;FMTTYPE=text/html:Bring your pet for a fun filled day at All Dogs Dream. We&#39\;re setting up bobbing for hot dogs for our furry friends and seeing who can get the most\, who will end up swimming\, and who goes the fastest! Pet must be established with All Dogs Dream and be up to date on Rabies\, Parvo\, and Bordetella vaccines.
LOCATION:All Dogs Dream 12651 Gateway Dr. Neosho\, Mo 64850
UID:e.2144.10449
SEQUENCE:3
DTSTAMP:20260425T184649Z
URL:https://www.neoshocc.com/events/details/bobbing-for-hot-dogs-10449
END:VEVENT

END:VCALENDAR
