BEGIN:VCALENDAR
VERSION:2.0
PRODID:-//ChamberMaster//Event Calendar 2.0//EN
METHOD:PUBLISH
X-PUBLISHED-TTL:P3D
REFRESH-INTERVAL:P3D
CALSCALE:GREGORIAN
BEGIN:VEVENT
DTSTART:20241221T170000Z
DTEND:20241222T000000Z
X-MICROSOFT-CDO-ALLDAYEVENT:FALSE
SUMMARY:BoBo's Tex Mex Grand Opening
DESCRIPTION:After a successful 'Soft Open' on the 14th of December\, we are ready to streamline our menu and provide you guys with some fresh flavors. Our Tex-Mex version of "Birria with pickled onions & tomatillo verde" was a massive hit\, and I am adding it permanently to the menu.\n\nWe are adding two new items to the menu like you have never tasted: "Tex-Mex Birria Rolls" & "Tortilla Soup"\n\nImagine our 'Crab Rolls' stuffed inside with 'Brirra' and spicy cheeses\, served with a side of consume and our tomatillo sauce. Hope to see you there\, and we are grateful for your business!
X-ALT-DESC;FMTTYPE=text/html:<div background-color:="" class="xdj266r x11i5rnm xat24cr x1mh8g0r x1vvkbs" color:="" font-size:="" segoe="" style="margin: 0px\; overflow-wrap: break-word\; font-family: " ui="">After a successful &#39\;Soft Open&#39\; on the 14th of December\, we are ready to streamline our menu and provide you guys with some fresh flavors. Our Tex-Mex version of &quot\;Birria with pickled onions &amp\; tomatillo verde&quot\; was a massive hit\, and I am adding it permanently to the menu.</div>\n\n<div background-color:="" class="x11i5rnm xat24cr x1mh8g0r x1vvkbs xtlvy1s" color:="" font-size:="" segoe="" style="margin: 0.5em 0px 0px\; overflow-wrap: break-word\; font-family: " ui="">We are adding two new items to the menu like you have never tasted: &quot\;Tex-Mex Birria Rolls&quot\; &amp\; &quot\;Tortilla Soup&quot\;</div>\n\n<div background-color:="" class="x11i5rnm xat24cr x1mh8g0r x1vvkbs xtlvy1s" color:="" font-size:="" segoe="" style="margin: 0.5em 0px 0px\; overflow-wrap: break-word\; font-family: " ui="">Imagine our &#39\;Crab Rolls&#39\; stuffed inside with &#39\;Brirra&#39\; and spicy cheeses\, served with a side of consume and our tomatillo sauce. Hope to see you there\, and we are grateful for your business!</div>\n
LOCATION:Antique-ish Mall 908 W Harmony St\, Neosho\, MO 64850
UID:e.2144.14281
SEQUENCE:3
DTSTAMP:20260424T161012Z
URL:https://www.neoshocc.com/events/details/bobo-s-tex-mex-grand-opening-14281
END:VEVENT

END:VCALENDAR
