BEGIN:VCALENDAR
VERSION:2.0
PRODID:-//ChamberMaster//Event Calendar 2.0//EN
METHOD:PUBLISH
X-PUBLISHED-TTL:P3D
REFRESH-INTERVAL:P3D
CALSCALE:GREGORIAN
BEGIN:VEVENT
DTSTART:20251030T223000Z
DTEND:20251031T003000Z
X-MICROSOFT-CDO-ALLDAYEVENT:FALSE
SUMMARY:Bounce or Treat
DESCRIPTION:Join us at Northside Baptist Church for a faith-filled evening of fun at our Annual Bounce or Treat! We'd love for your whole family to come out and enjoy: ? Bounce Houses ?? Free Food ?? Games ?? Candy ??????????? Family Fun in a Safe\, Joyful Environment Costumes are welcome and smiles are encouraged! Bring your friends\, neighbors\, and anyone who could use a little extra joy this fall!
X-ALT-DESC;FMTTYPE=text/html:Join us at Northside Baptist Church for a faith-filled evening of fun at our Annual Bounce or Treat! We&rsquo\;d love for your whole family to come out and enjoy: ? Bounce Houses ?? Free Food ?? Games ?? Candy ??????????? Family Fun in a Safe\, Joyful Environment Costumes are welcome and smiles are encouraged! Bring your friends\, neighbors\, and anyone who could use a little extra joy this fall!
LOCATION:705 N High St
UID:e.2144.18572
SEQUENCE:3
DTSTAMP:20260424T025746Z
URL:https://www.neoshocc.com/events/details/bounce-or-treat-18572
END:VEVENT

END:VCALENDAR
