BEGIN:VCALENDAR
VERSION:2.0
PRODID:-//ChamberMaster//Event Calendar 2.0//EN
METHOD:PUBLISH
X-PUBLISHED-TTL:P3D
REFRESH-INTERVAL:P3D
CALSCALE:GREGORIAN
BEGIN:VEVENT
DTSTART:20250913T010000Z
DTEND:20250913T040000Z
X-MICROSOFT-CDO-ALLDAYEVENT:FALSE
SUMMARY:Brad Hemphill Live Music!
DESCRIPTION:Brad Hemphill from Miami\, OK plays live on the Osage Stage!
X-ALT-DESC;FMTTYPE=text/html:Brad Hemphill from Miami\, OK plays live on the Osage Stage!
LOCATION:200 e Spring Street Neosho\, MO 64850
UID:e.2144.18488
SEQUENCE:3
DTSTAMP:20260424T030349Z
URL:https://www.neoshocc.com/events/details/brad-hemphill-live-music-18488
END:VEVENT

END:VCALENDAR
