BEGIN:VCALENDAR
VERSION:2.0
PRODID:-//ChamberMaster//Event Calendar 2.0//EN
METHOD:PUBLISH
X-PUBLISHED-TTL:P3D
REFRESH-INTERVAL:P3D
CALSCALE:GREGORIAN
BEGIN:VEVENT
DTSTART:20241005T230000Z
DTEND:20241006T020000Z
X-MICROSOFT-CDO-ALLDAYEVENT:FALSE
SUMMARY:Brad Hemphill Live Music at Eastside Social
DESCRIPTION:Brad Hemphill will be closing out the night of the Fall Festival jamming out on the patio. Don't miss out on the downtown fun on October 5th from 6pm to 9pm
X-ALT-DESC;FMTTYPE=text/html:<span style="font-size:16px"><span style="color:rgb(35\, 31\, 32)\; font-family:brandon-grotesque">Brad Hemphill will be closing out the night of the Fall Festival jamming out on the patio. Don&rsquo\;t miss out on the downtown fun on October 5th from 6pm to 9pm </span></span>
LOCATION:113 S Washington St Neosho\, Mo located at the Eastside Social
UID:e.2144.13057
SEQUENCE:3
DTSTAMP:20260424T203119Z
URL:https://www.neoshocc.com/events/details/brad-hemphill-live-music-at-eastside-social-13057
END:VEVENT

END:VCALENDAR
