BEGIN:VCALENDAR
VERSION:2.0
PRODID:-//ChamberMaster//Event Calendar 2.0//EN
METHOD:PUBLISH
X-PUBLISHED-TTL:P3D
REFRESH-INTERVAL:P3D
CALSCALE:GREGORIAN
BEGIN:VEVENT
DTSTART:20251206T140000Z
DTEND:20251206T170000Z
X-MICROSOFT-CDO-ALLDAYEVENT:FALSE
SUMMARY:Breakfast with Santa 2025
DESCRIPTION:Join us for a festive morning the whole family will enjoy! Families can look forward to a delicious pancake breakfast\, holiday crafts\, fun games\, and photos with Santa.\n\nEvent Details:\n\nNeosho Auditorium\n\n109 W Main St\, Neosho\, MO 64850\n\nSaturday\, December 6\, 2025\n\n8:00 11:00 AM\n\nAdmission is free\, and all are welcome!
X-ALT-DESC;FMTTYPE=text/html:<p data-end="303" data-start="133"><span style="font-size:14px\;"><span style="font-family:arial\;">Join us for a festive morning the whole family will enjoy! Families can look forward to a delicious pancake breakfast\, holiday crafts\, fun games\, and photos with Santa.</span></span></p>\n\n<p data-end="420" data-start="305"><span style="font-size:14px\;"><span style="font-family:arial\;">Event Details:<br data-end="322" data-start="319" />\nNeosho Auditorium<br data-end="342" data-start="339" />\n109 W Main St\, Neosho\, MO 64850<br data-end="376" data-start="373" />\nSaturday\, December 6\, 2025<br data-end="405" data-start="402" />\n8:00&ndash\;11:00 AM</span></span></p>\n\n<p data-end="463" data-start="422"><span style="font-size:14px\;"><span style="font-family:arial\;">Admission is free\, and all are welcome!</span></span></p>\n
LOCATION:The Neosho Auditorium 109 W Main St Neosho MO 64850
UID:e.2144.16661
SEQUENCE:3
DTSTAMP:20260423T224552Z
URL:https://www.neoshocc.com/events/details/breakfast-with-santa-2025-16661
END:VEVENT

END:VCALENDAR
