BEGIN:VCALENDAR
VERSION:2.0
PRODID:-//ChamberMaster//Event Calendar 2.0//EN
METHOD:PUBLISH
X-PUBLISHED-TTL:P3D
REFRESH-INTERVAL:P3D
CALSCALE:GREGORIAN
BEGIN:VEVENT
DTSTART:20231105T000000Z
DTEND:20231105T020000Z
X-MICROSOFT-CDO-ALLDAYEVENT:FALSE
SUMMARY:Brian Woods
DESCRIPTION:Celebrated for his stunning musicianship and dazzling stage presence\, American pianist Brian Woods is a rising star of international acclaim. A native of St. Louis\, Woods combines formidable technique and unique artistry with a charismatic style to delight and inspire audiences internationally. Guided by a firm belief in music's power to improve lives regardless of background\, Woods' performances captivate classical music veterans and newcomers alike. Enjoy Wood's talent as he performs on the Cornell Complex's 1949 Steinway Concert Grand Piano Model D. This performance is generously funded in part by the Vivian Le n Fund for the Musical Arts.
X-ALT-DESC;FMTTYPE=text/html:Celebrated for his stunning musicianship and dazzling stage presence\, American pianist Brian Woods is a rising star of international acclaim. A native of St. Louis\, Woods combines formidable technique and unique artistry with a charismatic style to delight and inspire audiences internationally. Guided by a firm belief in music&#39\;s power to improve lives regardless of background\, Woods&#39\; performances captivate classical music veterans and newcomers alike. Enjoy Wood&#39\;s talent as he performs on the Cornell Complex&#39\;s 1949 Steinway Concert Grand Piano Model D. This performance is generously funded in part by the Vivian Le&oacute\;n Fund for the Musical Arts.
LOCATION:Harry M. Cornell Arts & Entertainment Complex located at 212 West 7th Street. Joplin\, MO 64801
UID:e.2144.10788
SEQUENCE:3
DTSTAMP:20260425T103924Z
URL:https://www.neoshocc.com/events/details/brian-woods-10788
END:VEVENT

END:VCALENDAR
