BEGIN:VCALENDAR
VERSION:2.0
PRODID:-//ChamberMaster//Event Calendar 2.0//EN
METHOD:PUBLISH
X-PUBLISHED-TTL:P3D
REFRESH-INTERVAL:P3D
CALSCALE:GREGORIAN
BEGIN:VEVENT
DTSTART:20240503T230000Z
DTEND:20240504T010000Z
X-MICROSOFT-CDO-ALLDAYEVENT:FALSE
SUMMARY:Bright Futures BINGO Fundraiser Night
DESCRIPTION:Come join us at Indian Springs Brewing Company for a night of bingo and prizes. We will have a raffle too. Tickets $2 each or 6 for $10. Lots of amazing prizes.
X-ALT-DESC;FMTTYPE=text/html:Come join us at Indian Springs Brewing Company for a night of bingo and prizes. We will have a raffle too. Tickets $2 each or 6 for $10. Lots of amazing prizes.
LOCATION:Indian Spring Brewing Company 109 E Main St Neosho\, MO 64850
UID:e.2144.12070
SEQUENCE:3
DTSTAMP:20260425T020552Z
URL:https://www.neoshocc.com/events/details/bright-futures-bingo-fundraiser-night-12070
END:VEVENT

END:VCALENDAR
