BEGIN:VCALENDAR
VERSION:2.0
PRODID:-//ChamberMaster//Event Calendar 2.0//EN
METHOD:PUBLISH
X-PUBLISHED-TTL:P3D
REFRESH-INTERVAL:P3D
CALSCALE:GREGORIAN
BEGIN:VEVENT
DTSTART:20240921T000000Z
DTEND:20240921T020000Z
X-MICROSOFT-CDO-ALLDAYEVENT:FALSE
SUMMARY:Bright Futures Peanut Butter Drive
DESCRIPTION:Bring a 16 oz jar (no larger please) of peanut butter to the Neosho Wildcat Football Homecoming game and get in for FREE.
X-ALT-DESC;FMTTYPE=text/html:Bring a 16 oz jar (no larger please) of peanut butter to the Neosho Wildcat Football Homecoming game and get in for FREE.&nbsp\;
LOCATION:Bob Anderson Stadium
UID:e.2144.13076
SEQUENCE:3
DTSTAMP:20260424T203421Z
URL:https://www.neoshocc.com/events/details/bright-futures-peanut-butter-drive-13076
END:VEVENT

END:VCALENDAR
