BEGIN:VCALENDAR
VERSION:2.0
PRODID:-//ChamberMaster//Event Calendar 2.0//EN
METHOD:PUBLISH
X-PUBLISHED-TTL:P3D
REFRESH-INTERVAL:P3D
CALSCALE:GREGORIAN
BEGIN:VEVENT
DTSTART:20251013T170000Z
DTEND:20251027T170000Z
X-MICROSOFT-CDO-ALLDAYEVENT:FALSE
SUMMARY:Bright Futures Spread the Hope Peanut Butter Drive
DESCRIPTION:Join us for our annual Spread the Hope Peanut Butter Drive! Our goal is to collect 2\,500 jars of 16 or 18 oz peanut butter   enough to feed every student in our Weekend Backpack Program for the entire school year. ?? ?? Drive Dates: ?? October 13   October 27 ?? Drop-off Locations: Participate as a business drop-off site OR collect jars at your workplace Bring donations to our office at 418 Fairground Rd.\, Neosho\, MO (behind the Administration Office) ?? Final Drop-off/Pick-up: Monday\, October 27 or Tuesday\, October 28 Between 9:00 am   2:00 pm Or we'll have a volunteer pick up from your location! Together\, we can hit 2\,500 jars and make sure our Wildcats have the food they need all year long. ?? Easy Purchase: https://www.walmart.com/ip/Great-Value-Creamy-Peanut-Butter-16-oz/3716446909?classType=VARIANT&athbdg=L1100&from=/search
X-ALT-DESC;FMTTYPE=text/html:Join us for our annual Spread the Hope Peanut Butter Drive! Our goal is to collect 2\,500 jars of 16 or 18 oz peanut butter &mdash\; enough to feed every student in our Weekend Backpack Program for the entire school year. ?? ?? Drive Dates: ?? October 13 &ndash\; October 27 ?? Drop-off Locations: Participate as a business drop-off site OR collect jars at your workplace Bring donations to our office at 418 Fairground Rd.\, Neosho\, MO (behind the Administration Office) ?? Final Drop-off/Pick-up: Monday\, October 27 or Tuesday\, October 28 Between 9:00 am &ndash\; 2:00 pm Or we&rsquo\;ll have a volunteer pick up from your location! Together\, we can hit 2\,500 jars and make sure our Wildcats have the food they need all year long. ?? Easy Purchase: https://www.walmart.com/ip/Great-Value-Creamy-Peanut-Butter-16-oz/3716446909?classType=VARIANT&amp\;athbdg=L1100&amp\;from=/search
LOCATION:Neosho Bright Futures Office 418 Fairground Rd. Neosho\, MO 64850
UID:e.2144.18538
SEQUENCE:3
DTSTAMP:20260424T030655Z
URL:https://www.neoshocc.com/events/details/bright-futures-spread-the-hope-peanut-butter-drive-18538
END:VEVENT

END:VCALENDAR
