BEGIN:VCALENDAR
VERSION:2.0
PRODID:-//ChamberMaster//Event Calendar 2.0//EN
METHOD:PUBLISH
X-PUBLISHED-TTL:P3D
REFRESH-INTERVAL:P3D
CALSCALE:GREGORIAN
BEGIN:VEVENT
DTSTART:20250914T010000Z
DTEND:20250914T040000Z
X-MICROSOFT-CDO-ALLDAYEVENT:FALSE
SUMMARY:Brown Sugar! LIve Music Osage Spring
DESCRIPTION:Osage Spring welcomes back Brown Sugar!  Live on the Osage Stage!
X-ALT-DESC;FMTTYPE=text/html:Osage Spring welcomes back Brown Sugar!&nbsp\; Live on the Osage Stage!
LOCATION:200 e Spring Street Neosho\, MO 64850
UID:e.2144.18489
SEQUENCE:3
DTSTAMP:20260424T043130Z
URL:https://www.neoshocc.com/events/details/brown-sugar-live-music-osage-spring-18489
END:VEVENT

END:VCALENDAR
