BEGIN:VCALENDAR
VERSION:2.0
PRODID:-//ChamberMaster//Event Calendar 2.0//EN
METHOD:PUBLISH
X-PUBLISHED-TTL:P3D
REFRESH-INTERVAL:P3D
CALSCALE:GREGORIAN
BEGIN:VEVENT
DTSTART:20241017T140000Z
DTEND:20241017T190000Z
X-MICROSOFT-CDO-ALLDAYEVENT:FALSE
SUMMARY:Build My Future in SWMO
DESCRIPTION:Looking for students in 8th grade to senior and employers in construction and manufacturing! This event is not open to the public.  \n\nBuild My Future is a career expo event where employers showcase the construction trade or manufacturing through demonstrations and hands on experience to eighth grade and high school students from our seven-county region (Dade\, Lawrence\, Barry\, McDonald\, Newton\, Jasper\, and Barton Counties). The program brings together schools\, after school programs and employers\, to foster development of skills in our community. This is our fifth year to offer this event in the SW region and we are excited to share the experience with students from our predominantly rural service area. You can register at BuildMyFutureSWMO.com.
X-ALT-DESC;FMTTYPE=text/html:Looking for students in 8th grade to senior and employers in construction and manufacturing! This event is not open to the public.&nbsp\;&nbsp\;<br />\nBuild My Future is a career expo event where employers showcase the construction trade or manufacturing through demonstrations and hands on experience to eighth grade and high school students from our seven-county region (Dade\, Lawrence\, Barry\, McDonald\, Newton\, Jasper\, and Barton Counties). The program brings together schools\, after school programs and employers\, to foster development of skills in our community. This is our fifth year to offer this event in the SW region and we are excited to share the experience with students from our predominantly rural service area. You can register at <u>BuildMyFutureSWMO.com</u>.
LOCATION:Northpark Mall 101 N Rangeline Rd Joplin MO 64801
UID:e.2144.13050
SEQUENCE:3
DTSTAMP:20260424T190712Z
URL:https://www.neoshocc.com/events/details/build-my-future-in-swmo-10-17-2024-13050
END:VEVENT

END:VCALENDAR
