BEGIN:VCALENDAR
VERSION:2.0
PRODID:-//ChamberMaster//Event Calendar 2.0//EN
METHOD:PUBLISH
X-PUBLISHED-TTL:P3D
REFRESH-INTERVAL:P3D
CALSCALE:GREGORIAN
BEGIN:VEVENT
DTSTART:20240716T230000Z
DTEND:20240717T010000Z
X-MICROSOFT-CDO-ALLDAYEVENT:FALSE
SUMMARY:BUNCO - Summer Picnic
DESCRIPTION:Join our Neosho Area Soroptimist club for Summer Picnic Food and Bunco.\n\nServing summer salads and drink.\n\n$20 to enjoy a meal and play BUNCO.  Door Prizes and Game Prizes.\n\n\n\nCome out for a fun evening and support our local Soroptimist Club
X-ALT-DESC;FMTTYPE=text/html:Join our Neosho Area Soroptimist club for Summer Picnic Food and Bunco.<br />\nServing summer salads and drink.<br />\n$20 to enjoy a meal and play BUNCO.&nbsp\; Door Prizes and Game Prizes.<br />\n<br />\nCome out for a fun evening and support our local Soroptimist Club
LOCATION:MYP Legacy Event Center 180 North Highway 49 Business Neosho MO 64850
UID:e.2144.12204
SEQUENCE:3
DTSTAMP:20260424T231931Z
URL:https://www.neoshocc.com/events/details/bunco-summer-picnic-12204
END:VEVENT

END:VCALENDAR
