BEGIN:VCALENDAR
VERSION:2.0
PRODID:-//ChamberMaster//Event Calendar 2.0//EN
METHOD:PUBLISH
X-PUBLISHED-TTL:P3D
REFRESH-INTERVAL:P3D
CALSCALE:GREGORIAN
BEGIN:VEVENT
DTSTART:20250925T213000Z
DTEND:20250925T230000Z
X-MICROSOFT-CDO-ALLDAYEVENT:FALSE
SUMMARY:Business After Hours hosted by Eastside Social
DESCRIPTION:Join us for Business After Hours at Eastside Social!\n\n  Thursday\, September 25th\n\n  4:30   6:00 PM\n\nUnwind after work and make meaningful connections at one of Downtown Neosho's favorite spots. Eastside Social offers a fun atmosphere\, great food\, and a welcoming patio   the perfect setting to mix and mingle with fellow Chamber members and community leaders.\n\nBusiness After Hours is a casual networking event designed to build relationships\, exchange ideas\, and spotlight local businesses. Bring a colleague\, grab a refreshment\, and expand your circle while enjoying the relaxed vibe of Eastside Social.\n\nWe can't wait to see you there!
X-ALT-DESC;FMTTYPE=text/html:<p data-end="228" data-start="112"><strong data-end="168" data-start="112">Join us for Business After Hours at Eastside Social!</strong><br data-end="171" data-start="168" />\n&#128197\; <strong data-end="202" data-start="174">Thursday\, September 25th</strong><br data-end="205" data-start="202" />\n&#128351\; <strong data-end="226" data-start="208">4:30 &ndash\; 6:00 PM</strong></p>\n\n<p data-end="491" data-start="230">Unwind after work and make meaningful connections at one of Downtown Neosho&rsquo\;s favorite spots. Eastside Social offers a fun atmosphere\, great food\, and a welcoming patio &mdash\; the perfect setting to mix and mingle with fellow Chamber members and community leaders.</p>\n\n<p data-end="739" data-start="493">Business After Hours is a casual networking event designed to build relationships\, exchange ideas\, and spotlight local businesses. Bring a colleague\, grab a refreshment\, and expand your circle while enjoying the relaxed vibe of Eastside Social.</p>\n\n<p data-end="774" data-start="741">We can&rsquo\;t wait to see you there!</p>\n
LOCATION:Eastside Social 113 S Washington Neosho\, MO
UID:e.2144.14862
SEQUENCE:3
DTSTAMP:20260424T032054Z
URL:https://www.neoshocc.com/events/details/business-after-hours-hosted-by-eastside-social-14862
END:VEVENT

END:VCALENDAR
