BEGIN:VCALENDAR
VERSION:2.0
PRODID:-//ChamberMaster//Event Calendar 2.0//EN
METHOD:PUBLISH
X-PUBLISHED-TTL:P3D
REFRESH-INTERVAL:P3D
CALSCALE:GREGORIAN
BEGIN:VEVENT
DTSTART:20231005T213000Z
DTEND:20231005T230000Z
X-MICROSOFT-CDO-ALLDAYEVENT:FALSE
SUMMARY:Business After Hours hosted by Oak Pointe
DESCRIPTION:Join us for Business After Hours hosted by Oak Pointe. Food\, drinks and networking!
X-ALT-DESC;FMTTYPE=text/html:Join us for Business After Hours hosted by Oak Pointe. Food\, drinks and networking!
LOCATION:Oak Pointe 2601 Oak Ridge Exn Neosho\, MO
UID:e.2144.10505
SEQUENCE:3
DTSTAMP:20260425T121835Z
URL:https://www.neoshocc.com/events/details/business-after-hours-hosted-by-oak-pointe-10505
END:VEVENT

END:VCALENDAR
