BEGIN:VCALENDAR
VERSION:2.0
PRODID:-//ChamberMaster//Event Calendar 2.0//EN
METHOD:PUBLISH
X-PUBLISHED-TTL:P3D
REFRESH-INTERVAL:P3D
CALSCALE:GREGORIAN
BEGIN:VEVENT
DTSTART:20230620T213000Z
DTEND:20230620T230000Z
X-MICROSOFT-CDO-ALLDAYEVENT:FALSE
SUMMARY:Business After Hours hosted by Penmac Staffing
DESCRIPTION:Business After Hours hosted by Penmac Staffing
X-ALT-DESC;FMTTYPE=text/html:Business After Hours hosted by Penmac Staffing<br />\n&nbsp\;
LOCATION:Weston Place 114 S Wood Street Neosho\, MO
UID:e.2144.9039
SEQUENCE:3
DTSTAMP:20260425T184759Z
URL:https://www.neoshocc.com/events/details/business-after-hours-hosted-by-penmac-staffing-9039
END:VEVENT

END:VCALENDAR
