BEGIN:VCALENDAR
VERSION:2.0
PRODID:-//ChamberMaster//Event Calendar 2.0//EN
METHOD:PUBLISH
X-PUBLISHED-TTL:P3D
REFRESH-INTERVAL:P3D
CALSCALE:GREGORIAN
BEGIN:VEVENT
DTSTART:20230824T213000Z
DTEND:20230824T230000Z
X-MICROSOFT-CDO-ALLDAYEVENT:FALSE
SUMMARY:Business After Hours hosted by Shoe Sensation & Eastside Social
DESCRIPTION:Business After Hours hosted by Shoe Sensation & Eastside Social. Join us for drinks\, food and networking!
X-ALT-DESC;FMTTYPE=text/html:Business After Hours hosted by Shoe Sensation &amp\; Eastside Social. Join us for drinks\, food and networking!
LOCATION:113 S Washington Ave Neosho\, MO 64850
UID:e.2144.10481
SEQUENCE:3
DTSTAMP:20260425T154540Z
URL:https://www.neoshocc.com/events/details/business-after-hours-hosted-by-shoe-sensation-eastside-social-10481
END:VEVENT

END:VCALENDAR
