BEGIN:VCALENDAR
VERSION:2.0
PRODID:-//ChamberMaster//Event Calendar 2.0//EN
METHOD:PUBLISH
X-PUBLISHED-TTL:P3D
REFRESH-INTERVAL:P3D
CALSCALE:GREGORIAN
BEGIN:VEVENT
DTSTART:20241120T060000Z
DTEND:20250201T060000Z
X-MICROSOFT-CDO-ALLDAYEVENT:FALSE
SUMMARY:Calling All Creatives: The Crowder Quill 2024
DESCRIPTION:The Crowder Quill art and literary magazine of Crowder College is now accepting entries for its annual contest in literature\, photography\, and art. \n\nThe free competition accepts entries in eight different categories: poetry\, fiction\, nonfiction\, B&W photography\, color photography\, digital art\, 2D art\, and 3D art.  \n\n"With the rise of artificial intelligence in society\, we welcome the creative expression of human-generated art and original thought\," stated Latonia Bailey\, Quill Adviser. "Of course\, digital technology may be used as a tool as the Quill is primarily a digital contest." \n\nAll entries should be sent as digital files and uploaded online at www.CrowderQuill.com. Exceptions may be made for the categories of 2D art (paintings\, drawings and hand-made prints) and 3D art (pottery\, ceramic\, and sculptures)\, which may be mailed or hand delivered but preferably scanned or photographed to be entered digitally.  \n\nIndividuals may submit up to four entries in each category by the Feb. 1 deadline. Specific guidelines for each category and more information may be obtained from the website.   \n\nEmail Quill@Crowder.edu to make arrangements for hand-delivered art entries or if internet access is an issue.  \n\nThe Quill has been published since 1980 with the mission of encouraging and showcasing local authors\, artists\, and photographers. It is distributed free on campus and in the community as well as digitally. \n\nThe Crowder Quill class is part of the Digital Media Marketing certificate at Crowder College in which students gain skills in content creation\, marketing strategies\, social media\, graphic design\, and communication.  \n\nFor more information about the contest or college course DIGM 103 Applied Graphic Design and Media Campaigns\, contact Latonia Bailey: LatoniaBailey@crowder.edu.
X-ALT-DESC;FMTTYPE=text/html:<p><strong><span style="color:black\; font-family:lato\,sans-serif">&nbsp\;The&nbsp\;<em>Crowder Quill</em>&nbsp\;art and literary magazine of Crowder College is now accepting entries for its annual contest in literature\, photography\, and art.&nbsp\;</span></strong></p>\n\n<p><span style="color:black\; font-family:lato\,sans-serif">The <strong>free competition</strong> accepts entries in eight different categories: poetry\, fiction\, nonfiction\, B&amp\;W photography\, color photography\, digital art\, 2D art\, and 3D art. &nbsp\;</span></p>\n\n<p><span style="color:black\; font-family:lato\,sans-serif">&ldquo\;With the rise of artificial intelligence in society\, we welcome the creative expression of human-generated art and original thought\,&rdquo\; stated Latonia Bailey\,&nbsp\;<em>Quill&nbsp\;</em>Adviser. &ldquo\;Of course\, digital technology may be used as a tool as the&nbsp\;<em>Quill&nbsp\;</em>is primarily a digital contest.&rdquo\;&nbsp\;</span></p>\n\n<p><strong><span style="color:black\; font-family:lato\,sans-serif">All entries should be sent as digital files and uploaded online at&nbsp\;</span><span style="color:black\; font-family:lato\,sans-serif\; font-size:12pt"><a href="https://url.avanan.click/v2/___http:/www.CrowderQuill.com___.YXAzOmNyb3dkZXJjb2xsZWdlOmE6bzozMGFlMzJjNjI5YTFkZTBiMWNhNTEwNWQ0OTYzMmUxYzo2OmE0NTY6ZDhmODE2MTM0NTYxOGJiMTI3OGMxYjA4ZTRjNjRjYWZiNDNiNTIxYjU1ODYxNGVhZDc2MmVjYzY3MWRhZTcyMTpoOkY" style="box-sizing: border-box\; background-color: transparent\; color: rgb(25\, 85\, 166)\; text-decoration-line: none\; transition: all 0.5s ease 0s\; outline: 0px\; box-shadow: none\; font-family: Lato\, Arial\;" title="Protected by Avanan: http://www.CrowderQuill.com"><span style="font-size:11pt">www.CrowderQuill.com</span></a></span></strong><span style="color:black\; font-family:lato\,sans-serif">.&nbsp\;</span><span style="color:black\; font-family:lato\,sans-serif">Exceptions may be made for the categories of 2D art (paintings\, drawings and hand-made prints) and 3D art (pottery\, ceramic\, and sculptures)\, which may be mailed or hand delivered but preferably scanned or photographed to be entered digitally.&nbsp\;</span><span style="color:black\; font-family:lato\,sans-serif\; font-size:12pt">&nbsp\;</span></p>\n\n<p><span style="color:black\; font-family:lato\,sans-serif">Individuals may submit up to four entries in each category by the<strong> Feb. 1 deadline.</strong> Specific guidelines for each category and more information may be obtained from the website.&nbsp\;&nbsp\;</span><span style="color:black\; font-family:lato\,sans-serif">&nbsp\;</span></p>\n\n<p><span style="color:black\; font-family:lato\,sans-serif">Email&nbsp\;<a href="mailto:Quill@Crowder.edu" style="box-sizing: border-box\; background-color: transparent\; color: rgb(25\, 85\, 166)\; text-decoration-line: none\; transition: all 0.5s ease 0s\; outline: 0px\; box-shadow: none\; font-family: Lato\, Arial\;">Quill@Crowder.edu</a>&nbsp\;to make arrangements for hand-delivered art entries or if internet access is an issue.&nbsp\;&nbsp\;</span></p>\n\n<p><span style="color:black\; font-family:lato\,sans-serif">The&nbsp\;<em>Quill</em>&nbsp\;has been published since 1980 with the mission of encouraging and showcasing local authors\, artists\, and photographers. It is distributed free on campus and in the community as well as digitally.&nbsp\;</span></p>\n\n<p><span style="color:black\; font-family:lato\,sans-serif">The&nbsp\;<em>Crowder Quill</em>&nbsp\;class is part of the Digital Media Marketing certificate at Crowder College in which students gain skills in content creation\, marketing strategies\, social media\, graphic design\, and communication.&nbsp\;</span><span style="color:black\; font-family:lato\,sans-serif">&nbsp\;</span></p>\n\n<p><span style="color:black\; font-family:lato\,sans-serif">For more information about the contest or college course DIGM 103 Applied Graphic Design and Media Campaigns\, contact Latonia Bailey:&nbsp\;<a href="mailto:LatoniaBailey@crowder.edu" style="box-sizing: border-box\; background-color: transparent\; color: rgb(25\, 85\, 166)\; text-decoration-line: none\; transition: all 0.5s ease 0s\; outline: 0px\; box-shadow: none\; font-family: Lato\, Arial\;">LatoniaBailey@crowder.edu</a>.</span></p>\n
LOCATION:All entries should be sent as digital files and uploaded online at www.CrowderQuill.com. Exceptions may be made for the categories of 2D art (paintings\, drawings and hand-made prints) and 3D art (pottery\, ceramic\, and sculptures)\, which may be mailed or hand delivered but preferably scanned or photographed to be entered digitally.
UID:e.2144.14142
SEQUENCE:3
DTSTAMP:20260424T133225Z
URL:https://www.neoshocc.com/events/details/calling-all-creatives-the-crowder-quill-2024-11-20-2024-14142
END:VEVENT

END:VCALENDAR
