BEGIN:VCALENDAR
VERSION:2.0
PRODID:-//ChamberMaster//Event Calendar 2.0//EN
METHOD:PUBLISH
X-PUBLISHED-TTL:P3D
REFRESH-INTERVAL:P3D
CALSCALE:GREGORIAN
BEGIN:VEVENT
DTSTART:20241026T230000Z
DTEND:20241027T000000Z
X-MICROSOFT-CDO-ALLDAYEVENT:FALSE
SUMMARY:Candy Apple Making/ Trunk or Treat
DESCRIPTION:On Saturday October 26th we will be doing a trunk or treat with a candy apple making station inside the shop for all ages.?? We have room for 7+ spots for any businesses wanting to participate in the trunk or treat that day\, contact me to get your spot??
X-ALT-DESC;FMTTYPE=text/html:On Saturday October 26th we will be doing a trunk or treat with a candy apple making station inside the shop for all ages.?? We have room for 7+ spots for any businesses wanting to participate in the trunk or treat that day\, contact me to get your spot??
LOCATION:412 N. Lincoln
UID:e.2144.13732
SEQUENCE:3
DTSTAMP:20260424T190438Z
URL:https://www.neoshocc.com/events/details/candy-apple-making-trunk-or-treat-13732
END:VEVENT

END:VCALENDAR
