BEGIN:VCALENDAR
VERSION:2.0
PRODID:-//ChamberMaster//Event Calendar 2.0//EN
METHOD:PUBLISH
X-PUBLISHED-TTL:P3D
REFRESH-INTERVAL:P3D
CALSCALE:GREGORIAN
BEGIN:VEVENT
DTSTART:20250927T130000Z
DTEND:20250927T150000Z
X-MICROSOFT-CDO-ALLDAYEVENT:FALSE
SUMMARY:Cars & Coffee
DESCRIPTION:September Cars&Coffee at Flagship Auto Group!\n\nfree coffee and doughnuts starting at 8am!\n\nAll are welcome\, bring whatever you drive...
X-ALT-DESC;FMTTYPE=text/html:<span data-olk-copy-source="MailCompose" style="font-family: Aptos\, Aptos_EmbeddedFont\, Aptos_MSFontService\, Calibri\, Helvetica\, sans-serif\; font-size: 12pt\; color: rgb(0\, 0\, 0)\; font-weight: 600\;">September Cars&amp\;Coffee at Flagship Auto Group!<br />\nfree coffee and doughnuts starting at 8am!<br />\nAll are welcome\, bring whatever you drive...</span>
LOCATION:Flagship Auto Group 180 S Business 49\, Neosho\, Mo.
UID:e.2144.18502
SEQUENCE:3
DTSTAMP:20260424T030350Z
URL:https://www.neoshocc.com/events/details/cars-coffee-18502
END:VEVENT

END:VCALENDAR
