BEGIN:VCALENDAR
VERSION:2.0
PRODID:-//ChamberMaster//Event Calendar 2.0//EN
METHOD:PUBLISH
X-PUBLISHED-TTL:P3D
REFRESH-INTERVAL:P3D
CALSCALE:GREGORIAN
BEGIN:VEVENT
DTSTART:20250628T130000Z
DTEND:20250628T140000Z
X-MICROSOFT-CDO-ALLDAYEVENT:FALSE
SUMMARY:Cars & Coffee @ Flagship Auto Group
DESCRIPTION:This Saturday at 8am\, Flagship Auto Group will be offering free coffee and doughnuts!\n\nNo Registration Required!
X-ALT-DESC;FMTTYPE=text/html:<span style="color: rgb(226\, 229\, 233)\; font-family: &quot\;Segoe UI Historic&quot\;\, &quot\;Segoe UI&quot\;\, Helvetica\, Arial\, sans-serif\; font-size: 15px\; background-color: rgb(37\, 39\, 40)\;">This Saturday at 8am\, Flagship Auto Group will be offering free coffee and doughnuts!</span><br class="html-br" style="color: rgb(226\, 229\, 233)\; font-family: &quot\;Segoe UI Historic&quot\;\, &quot\;Segoe UI&quot\;\, Helvetica\, Arial\, sans-serif\; font-size: 15px\; background-color: rgb(37\, 39\, 40)\;" />\n<span style="color: rgb(226\, 229\, 233)\; font-family: &quot\;Segoe UI Historic&quot\;\, &quot\;Segoe UI&quot\;\, Helvetica\, Arial\, sans-serif\; font-size: 15px\; background-color: rgb(37\, 39\, 40)\;">No Registration Required!</span>
LOCATION:180 S Business 494\, Neosho\, Mo.
UID:e.2144.16694
SEQUENCE:3
DTSTAMP:20260424T073856Z
URL:https://www.neoshocc.com/events/details/cars-coffee-flagship-auto-group-16694
END:VEVENT

END:VCALENDAR
