BEGIN:VCALENDAR
VERSION:2.0
PRODID:-//ChamberMaster//Event Calendar 2.0//EN
METHOD:PUBLISH
X-PUBLISHED-TTL:P3D
REFRESH-INTERVAL:P3D
CALSCALE:GREGORIAN
BEGIN:VEVENT
DTSTART:20240815T210000Z
DTEND:20240815T223000Z
X-MICROSOFT-CDO-ALLDAYEVENT:FALSE
SUMMARY:Celebrate 10 Years with us!
DESCRIPTION:We are so happy to celebrate a decade in Neosho with our community. You all welcomed The Sheppard family\, the Matos family\, and the Bentz family with open arms and we appreciate you all so much. Please stop by the bowling alley to enjoy some snacks. If you are a patient\, bring your family 5:30 - 7 for bowling with your doctor and pizza on us. Who will be the best bowler? Dr. Sheppard\, Dr. Matos\, Dr. Bentz\, or Joplin's Dr. A? Our bet is on Miyuki!
X-ALT-DESC;FMTTYPE=text/html:We are so happy to celebrate a decade in Neosho with our community. You all welcomed The Sheppard family\, the Matos family\, and the Bentz family with open arms and we appreciate you all so much. Please stop by the bowling alley to enjoy some snacks. If you are a patient\, bring your family 5:30 - 7 for bowling with your doctor and pizza on us. Who will be the best bowler? Dr. Sheppard\, Dr. Matos\, Dr. Bentz\, or Joplin&#39\;s Dr. A? Our bet is on Miyuki!
LOCATION:Edgewood Bowl 2811 Gardner Edgewood Dr Neosho
UID:e.2144.12242
SEQUENCE:3
DTSTAMP:20260424T215626Z
URL:https://www.neoshocc.com/events/details/celebrate-10-years-with-us-12242
END:VEVENT

END:VCALENDAR
