BEGIN:VCALENDAR
VERSION:2.0
PRODID:-//ChamberMaster//Event Calendar 2.0//EN
METHOD:PUBLISH
X-PUBLISHED-TTL:P3D
REFRESH-INTERVAL:P3D
CALSCALE:GREGORIAN
BEGIN:VEVENT
DTSTART:20250628T210000Z
DTEND:20250629T030000Z
X-MICROSOFT-CDO-ALLDAYEVENT:FALSE
SUMMARY:2025 Celebrate Neosho
DESCRIPTION:Join us for Celebrate Neosho! \n\n \n\nDate: June 28\, 2025\n\nTime: 4:00-10:00PM\n\nHistoric Downton Neosho\n\n \n\nGet ready for an unforgettable day of festivities as we come together to celebrate our vibrant community in Neosho! Whether you're a longtime resident or a newcomer\, this event promises something for everyone.\n\n\n\nStay tuned for more details about the exciting activities we have planned\, including:\n\nLive music performances \n\n4:15-5:30pm Mike Snow & Justin Caubill\n\n5:45-7:00pm Rebecca Hawkins Project\n\n7:15-8:30pm The Lost Dogs\n\n\n\nDelicious food from local vendors & restaurants\n\n\n	Sho-Me Sugar\n	The Clay Cup\n	Sam's Cellar\n	Downtown Nutrition\n	Eastside Social\n	A-Ray's Desserts\n	Briar & Thistle\n	Indian Springs Brewing Company\n	Osage Spring\n	WH Farm Cafe\n	Sierra's Chuck Wagon\n	Donut NV\n	Buffalo Creek BBQ\n	Song Bird's Kitchen\n	Queen Bee Concessions\n	B & N Concession\n\n\nFamily-friendly games and activities \n\n4:00PM - Bounce House\, Water Slides & Giant Sandbox\n\n                Bungee Jump\, Giant Swing\, Kiddie Train & Pony Rides\n\n                Eastside Social: Batting Cage\n\n                Briar & Thistle: Water Gun War\n\n                Freedom Church: Dunk Tank\n\n                Flagship Auto Group: Car Show\n\n5:00PM - Watermelon Seed Spitting Contest\n\n                Balance Bike Race: register at neoshomo.gov/celebrateneosho\n\n6:00PM - Cutest Dog Contest\n\n6:30PM - Kiddie Tractor Pull\n\n9:30PM - FIREWORKS\n\n\n\nSave the date and invite your friends and family to join in on the fun! Let's make memories together as we celebrate all the things that make Neosho special.\n\n \n\nVisit neoshomo.gov/celebrateneosho for more information\n\n \n\nStay tuned for updates and mark your calendars   you won't want to miss out on this fantastic celebration
X-ALT-DESC;FMTTYPE=text/html:<div>Join us for Celebrate Neosho!&nbsp\;<br />\n&nbsp\;</div>\n\n<div>Date: June 28\, 2025<br />\nTime: 4:00-10:00PM<br />\nHistoric Downton Neosho<br />\n&nbsp\;</div>\n\n<div>Get ready for an unforgettable day of festivities as we come together to celebrate our vibrant community in Neosho! Whether you&#39\;re a longtime resident or a newcomer\, this event promises something for everyone.</div>\n\n<div><br />\nStay tuned for more details about the exciting activities we have planned\, including:</div>\n\n<div>Live music performances&nbsp\;<br />\n4:15-5:30pm Mike Snow &amp\; Justin Caubill<br />\n5:45-7:00pm Rebecca Hawkins Project<br />\n7:15-8:30pm The Lost Dogs</div>\n\n<div><br />\nDelicious food from local vendors &amp\; restaurants</div>\n\n<ul>\n	<li>Sho-Me Sugar</li>\n	<li>The Clay Cup</li>\n	<li>Sam&#39\;s Cellar</li>\n	<li>Downtown Nutrition</li>\n	<li>Eastside Social</li>\n	<li>A-Ray&#39\;s Desserts</li>\n	<li>Briar &amp\; Thistle</li>\n	<li>Indian Springs Brewing Company</li>\n	<li>Osage Spring</li>\n	<li>WH Farm Cafe</li>\n	<li>Sierra&#39\;s Chuck Wagon</li>\n	<li>Donut NV</li>\n	<li>Buffalo Creek BBQ</li>\n	<li>Song Bird&#39\;s Kitchen</li>\n	<li>Queen Bee Concessions</li>\n	<li>B &amp\; N Concession</li>\n</ul>\n\n<div>Family-friendly games and activities&nbsp\;<br />\n4:00PM - Bounce House\, Water Slides &amp\; Giant Sandbox<br />\n&nbsp\; &nbsp\; &nbsp\; &nbsp\; &nbsp\; &nbsp\; &nbsp\; &nbsp\; Bungee Jump\, Giant Swing\, Kiddie Train &amp\; Pony Rides<br />\n&nbsp\; &nbsp\; &nbsp\; &nbsp\; &nbsp\; &nbsp\; &nbsp\; &nbsp\; Eastside Social: Batting Cage<br />\n&nbsp\; &nbsp\; &nbsp\; &nbsp\; &nbsp\; &nbsp\; &nbsp\; &nbsp\;&nbsp\;Briar &amp\; Thistle: Water Gun War<br />\n&nbsp\; &nbsp\; &nbsp\; &nbsp\; &nbsp\; &nbsp\; &nbsp\; &nbsp\;&nbsp\;Freedom Church: Dunk Tank<br />\n&nbsp\; &nbsp\; &nbsp\; &nbsp\; &nbsp\; &nbsp\; &nbsp\; &nbsp\;&nbsp\;Flagship Auto Group: Car Show<br />\n5:00PM - Watermelon Seed Spitting Contest<br />\n&nbsp\; &nbsp\; &nbsp\; &nbsp\; &nbsp\; &nbsp\; &nbsp\; &nbsp\;&nbsp\;Balance Bike Race: register at&nbsp\;<a class="x1i10hfl xjbqb8w x1ejq31n xd10rxx x1sy0etr x17r0tee x972fbf xcfux6l x1qhh985 xm0m39n x9f619 x1ypdohk xt0psk2 xe8uvvx xdj266r x11i5rnm xat24cr x1mh8g0r xexx8yu x4uap5 x18d9i69 xkhd6sd x16tdsg8 x1hl2dhg xggy1nq x1a2a7pz xkrqix3 x1sur9pj x1fey0fg x1s688f" href="https://l.facebook.com/l.php?u=https%3A%2F%2Fneoshomo.gov%2Fcelebrateneosho%3Ffbclid%3DIwZXh0bgNhZW0CMTAAYnJpZBExcVhaUU1wVHRCaGZNaHRrSwEe74uR0bBhVFNZgm9k0d_IxDtckQ4vKD0KMUy5_27Va0hvaPlhgGStP2Kkqms_aem_fMvm59I2NpyYp0zMGnt6zg&amp\;h=AT1YQ8NUSpPYlv4aLSkV44sxTgoJmwU9AAIfzbQZIVK-mmOleVVTM9MmVe5FLqRSzINTamXgp_R0o4zQCs-Wsf-zrEKdw57BhsSB9uQn3U0SjG6CJMfeuIHx6qlsG8jf_eqyOZYKS5x2wQ&amp\;__tn__=q&amp\;c[0]=AT2QvfTDFc49VBktGoSDvBN_27OH4WYcpMYc2eNYXac2XDvSgTHY4U3ja6dbuJkqQ47BHMhLjzACAaHMmYhOocizwJrJDyp7rE93xtQj3eZEOKQ62sbKBi923T89REd6lL7sD6cH8HxMY2FpbmHU8QvonruedwZ-dP2KUg" rel="nofollow noreferrer" style="color: rgb(0\, 100\, 209)\; cursor: pointer\; text-decoration-line: none\; list-style: none\; margin: 0px\; text-align: inherit\; border-style: none\; padding: 0px\; box-sizing: border-box\; border-width: 0px\; outline: none\; -webkit-tap-highlight-color: transparent\; font-weight: 600\; touch-action: manipulation\; background-color: transparent\; display: inline\; font-family: inherit\;" tabindex="0" target="_blank">neoshomo.gov/celebrateneosho</a><br />\n6:00PM - Cutest Dog Contest<br />\n6:30PM - Kiddie Tractor Pull<br />\n9:30PM - FIREWORKS</div>\n\n<div><br />\nSave the date and invite your friends and family to join in on the fun! Let&#39\;s make memories together as we celebrate all the things that make Neosho special.<br />\n&nbsp\;</div>\n\n<div>Visit&nbsp\;<a class="x1i10hfl xjbqb8w x1ejq31n xd10rxx x1sy0etr x17r0tee x972fbf xcfux6l x1qhh985 xm0m39n x9f619 x1ypdohk xt0psk2 xe8uvvx xdj266r x11i5rnm xat24cr x1mh8g0r xexx8yu x4uap5 x18d9i69 xkhd6sd x16tdsg8 x1hl2dhg xggy1nq x1a2a7pz xkrqix3 x1sur9pj x1fey0fg x1s688f" href="https://neoshomo.gov/celebrateneosho?fbclid=IwZXh0bgNhZW0CMTAAYnJpZBExcVhaUU1wVHRCaGZNaHRrSwEei9g3B8jjW9CXQskVVzz-fgHaSQCm4ob1kHNtZGifvIUHpy_vMjMA8U93tns_aem_-zs7ct84k119EL7QpR2K0w" rel="nofollow noreferrer" style="color: rgb(0\, 100\, 209)\; cursor: pointer\; text-decoration-line: none\; list-style: none\; margin: 0px\; text-align: inherit\; border-style: none\; padding: 0px\; box-sizing: border-box\; border-width: 0px\; outline: none\; -webkit-tap-highlight-color: transparent\; font-weight: 600\; touch-action: manipulation\; background-color: transparent\; display: inline\; font-family: inherit\;" tabindex="0" target="_blank">neoshomo.gov/celebrateneosho</a>&nbsp\;for more information<br />\n&nbsp\;</div>\n\n<div>Stay tuned for updates and mark your calendars &mdash\; you won&#39\;t want to miss out on this fantastic celebration</div>\n
LOCATION:
UID:e.2144.16502
SEQUENCE:3
DTSTAMP:20260424T073956Z
URL:https://www.neoshocc.com/events/details/celebrate-neosho-06-28-2025-16502
END:VEVENT

END:VCALENDAR
