BEGIN:VCALENDAR
VERSION:2.0
PRODID:-//ChamberMaster//Event Calendar 2.0//EN
METHOD:PUBLISH
X-PUBLISHED-TTL:P3D
REFRESH-INTERVAL:P3D
CALSCALE:GREGORIAN
BEGIN:VEVENT
DTSTART:20250628T230000Z
DTEND:20250629T020000Z
X-MICROSOFT-CDO-ALLDAYEVENT:FALSE
SUMMARY:Celebrate Neosho KARAOKE Night
DESCRIPTION:?? Stop by Eastside Social during Celebrate Neosho and jam out on the patio!\n\nAll for You Entertainment will be hosting all-ages karaoke from 6PM to 9PM so bring your friends\, your family\, and your best shower-singing voice!\n\nWe're so excited to see our community come together for this fun-filled evening. Let's make it a night to remember! ??
X-ALT-DESC;FMTTYPE=text/html:<p>?? Stop by Eastside Social during <strong>Celebrate Neosho</strong> and jam out on the patio!<br />\n<strong>All for You Entertainment</strong> will be hosting <strong>all-ages karaoke</strong> from <strong>6PM to 9PM</strong>&mdash\;so bring your friends\, your family\, and your best shower-singing voice!</p>\n\n<p>We&rsquo\;re so excited to see our community come together for this fun-filled evening. Let&rsquo\;s make it a night to remember! ??</p>\n
LOCATION:113 S Washington St. Neosho\, Mo
UID:e.2144.16469
SEQUENCE:3
DTSTAMP:20260424T073957Z
URL:https://www.neoshocc.com/events/details/celebrate-neosho-karaoke-night-16469
END:VEVENT

END:VCALENDAR
