BEGIN:VCALENDAR
VERSION:2.0
PRODID:-//ChamberMaster//Event Calendar 2.0//EN
METHOD:PUBLISH
X-PUBLISHED-TTL:P3D
REFRESH-INTERVAL:P3D
CALSCALE:GREGORIAN
BEGIN:VEVENT
DTSTART:20241204T160000Z
DTEND:20241204T180000Z
X-MICROSOFT-CDO-ALLDAYEVENT:FALSE
SUMMARY:Ceremony Set for New Freeman Neosho Rehabilitation Building
DESCRIPTION:Ceremony Set for New Freeman Neosho Rehabilitation Building\n\nBrand New Facility Offers Enhanced Physical\, Occupational and Speech Therapy\n\n \n\nWhat: Physical therapy building at Freeman Neosho Hospital groundbreaking\n\nWhen: 10:00 am Wednesday\, December 4\, 2024\n\nWhere: Vacant lot behind Freeman Neosho Hospital's helipad parking lot fronting W. McKinney and S. Wood Streets\n\n \n\nBackground: Freeman Health System will break ground for a new physical therapy building on the Freeman Neosho Hospital campus Wednesday morning.\n\nFreeman President and Chief Executive Officer Paula Baker\, accompanied by other Freeman officials\, will don hard hats and grab golden shovels to officially launch the state-of-the-art building's construction on a lot located behind the hospital.\n\nUpon completion\, the 8\,300-square-foot building will house physical\, occupational and speech therapy departments and state-of-the-art technology\, including an aquatic therapy pool and strength training equipment. It will also feature five private treatment rooms and a large gymnasium.\n\nBuilding renderings will be on display and interviews will be available after the ceremony.\n\n \n\nMedia: Contact Kevin McClintock\, Media Relations Coordinator\, at 417.434.3458 if attending. \n\n\n\nAbout Freeman Health System: \n\nLocally owned\, not-for-profit and nationally recognized\, Freeman Health System includes Freeman Hospital West\, Freeman Hospital East\, Freeman Neosho Hospital and Ozark Center   the area's largest provider of behavioral health services   as well as two urgent care clinics\, dozens of physician clinics and a variety of specialty services. In 2024\, Freeman earned dozens of individual awards for medical excellence and patient safety from CareChex \, a quality rating system that helps consumers evaluate healthcare providers and their experiences. U.S. News & World Report named Freeman Health System one of the Best Hospitals for 2022. With more than 320 physicians on staff representing more than 90 specialties\, Freeman provides cancer care\, heart care\, neurology and neurosurgery\, orthopedics\, children's services\, women's services\, and many others for all of the Four State Area. Freeman is also involved in numerous community-based activities and sponsored events and celebrations. Additionally\, in the Joplin/Pittsburg areas\, Freeman is the only Children's Miracle Network Hospital in a 70-mile radius. For more information\, visit freemanhealth.com.
X-ALT-DESC;FMTTYPE=text/html:<p style="color: rgb(0\, 0\, 0)\; font-family: &quot\;Times New Roman&quot\;\; font-size: medium\;"><strong>Ceremony Set for New Freeman Neosho Rehabilitation Building</strong></p>\n\n<p style="color: rgb(0\, 0\, 0)\; font-family: &quot\;Times New Roman&quot\;\; font-size: medium\;"><strong>Brand New Facility Offers Enhanced Physical\, Occupational and Speech Therapy</strong></p>\n\n<p style="color: rgb(0\, 0\, 0)\; font-family: &quot\;Times New Roman&quot\;\; font-size: medium\;">&nbsp\;</p>\n\n<p style="color: rgb(0\, 0\, 0)\; font-family: &quot\;Times New Roman&quot\;\; font-size: medium\;"><strong>What:</strong> Physical therapy building at Freeman Neosho Hospital groundbreaking</p>\n\n<p style="color: rgb(0\, 0\, 0)\; font-family: &quot\;Times New Roman&quot\;\; font-size: medium\;"><strong>When:</strong> 10:00 am Wednesday\, December 4\, 2024</p>\n\n<p style="color: rgb(0\, 0\, 0)\; font-family: &quot\;Times New Roman&quot\;\; font-size: medium\;"><strong>Where: </strong>Vacant lot behind Freeman Neosho Hospital&rsquo\;s helipad parking lot fronting W. McKinney and S. Wood Streets</p>\n\n<p style="color: rgb(0\, 0\, 0)\; font-family: &quot\;Times New Roman&quot\;\; font-size: medium\;">&nbsp\;</p>\n\n<p style="color: rgb(0\, 0\, 0)\; font-family: &quot\;Times New Roman&quot\;\; font-size: medium\;"><strong>Background:</strong> Freeman Health System will break ground for a new physical therapy building on the Freeman Neosho Hospital campus Wednesday morning.</p>\n\n<p style="color: rgb(0\, 0\, 0)\; font-family: &quot\;Times New Roman&quot\;\; font-size: medium\;">Freeman President and Chief Executive Officer Paula Baker\, accompanied by other Freeman officials\, will don hard hats and grab golden shovels to officially launch the state-of-the-art building&rsquo\;s construction on a lot located behind the hospital.</p>\n\n<p style="color: rgb(0\, 0\, 0)\; font-family: &quot\;Times New Roman&quot\;\; font-size: medium\;">Upon completion\, the 8\,300-square-foot building will house physical\, occupational and speech therapy departments and state-of-the-art technology\, including an aquatic therapy pool and strength training equipment. It will also feature five private treatment rooms and a large gymnasium.</p>\n\n<p style="color: rgb(0\, 0\, 0)\; font-family: &quot\;Times New Roman&quot\;\; font-size: medium\;">Building renderings will be on display and interviews will be available after the ceremony.</p>\n\n<p style="color: rgb(0\, 0\, 0)\; font-family: &quot\;Times New Roman&quot\;\; font-size: medium\;">&nbsp\;</p>\n\n<p style="color: rgb(0\, 0\, 0)\; font-family: &quot\;Times New Roman&quot\;\; font-size: medium\;"><strong>Media: </strong>Contact Kevin McClintock\, Media Relations Coordinator\, at 417.434.3458 if attending.&nbsp\;<br />\n<br />\n<span style="color: rgb(0\, 0\, 0)\; font-family: &quot\;Times New Roman&quot\;\; font-size: medium\;"><strong>About Freeman Health System:&nbsp\;</strong><br />\nLocally owned\, not-for-profit and nationally recognized\, Freeman Health System includes Freeman Hospital West\, Freeman Hospital East\, Freeman Neosho Hospital and Ozark Center &ndash\; the area&rsquo\;s largest provider of behavioral health services &ndash\; as well as two urgent care clinics\, dozens of physician clinics and a variety of specialty services. In 2024\, Freeman earned dozens of individual awards for medical excellence and patient safety from CareChex&reg\;\, a quality rating system that helps consumers evaluate healthcare providers and their experiences. U.S. News &amp\; World Report named Freeman Health System one of the Best Hospitals for 2022. With more than 320 physicians on staff representing more than 90 specialties\, Freeman provides cancer care\, heart care\, neurology and neurosurgery\, orthopedics\, children&rsquo\;s services\, women&rsquo\;s services\, and many others for all of the Four State Area. Freeman is also involved in numerous community-based activities and sponsored events and celebrations. Additionally\, in the Joplin/Pittsburg areas\, Freeman is the only Children&rsquo\;s Miracle Network Hospital in a 70-mile radius. For more information\, visit freemanhealth.com.</span></p>\n
LOCATION:Vacant lot behind Freeman Neosho Hospital's helipad parking lot fronting W. McKinney and S. Wood Streets
UID:e.2144.14160
SEQUENCE:3
DTSTAMP:20260424T161828Z
URL:https://www.neoshocc.com/events/details/ceremony-set-for-new-freeman-neosho-rehabilitation-building-14160
END:VEVENT

END:VCALENDAR
