BEGIN:VCALENDAR
VERSION:2.0
PRODID:-//ChamberMaster//Event Calendar 2.0//EN
METHOD:PUBLISH
X-PUBLISHED-TTL:P3D
REFRESH-INTERVAL:P3D
CALSCALE:GREGORIAN
BEGIN:VEVENT
DTSTART:20250117T160000Z
DTEND:20250118T110000Z
X-MICROSOFT-CDO-ALLDAYEVENT:FALSE
SUMMARY:Cheers to Two Years!
DESCRIPTION:Celebrate with us...TWO years on the Historic Square in Neosho! We will have a free gift for you (while supplies last)\, sweet treats\, drinks and spin the wheel for special discounts!\n\nFollow on Facebook\, HERE.
X-ALT-DESC;FMTTYPE=text/html:<div>Celebrate with us...TWO years on the Historic Square in Neosho! We will have a free gift for you (while supplies last)\, sweet treats\, drinks and spin the wheel for special discounts!</div>\n\n<div>Follow on Facebook\, <a href="https://www.facebook.com/share/19sHvKGnjk/">HERE.</a></div>\n\n<div><br />\n&nbsp\;</div>\n
LOCATION:101 S. Washington Street Neosho\, MO
UID:e.2144.14387
SEQUENCE:3
DTSTAMP:20260424T151333Z
URL:https://www.neoshocc.com/events/details/cheers-to-two-years-14387
END:VEVENT

END:VCALENDAR
