BEGIN:VCALENDAR
VERSION:2.0
PRODID:-//ChamberMaster//Event Calendar 2.0//EN
METHOD:PUBLISH
X-PUBLISHED-TTL:P3D
REFRESH-INTERVAL:P3D
CALSCALE:GREGORIAN
BEGIN:VEVENT
DTSTART:20260211T180000Z
DTEND:20260211T180000Z
X-MICROSOFT-CDO-ALLDAYEVENT:FALSE
SUMMARY:Chess Club
DESCRIPTION:Checkmate !!\n\n\n\nDo you like chess? The Neosho Newton County Library is considering starting Chess Club\, but we need YOUR input. Contact the Youth Department if you would be interested in joining chess club!\n\n\n\nnumber: 417-451-4231\n\next. 103 or 113
X-ALT-DESC;FMTTYPE=text/html:Checkmate !!<br />\n<br />\nDo you like chess? The Neosho Newton County Library is considering starting Chess Club\, but we need YOUR input. Contact the Youth Department if you would be interested in joining chess club!<br />\n<br />\nnumber: 417-451-4231<br />\next. 103 or 113
LOCATION:201 W Spring St Neosho\, MO 64850
UID:e.2144.19149
SEQUENCE:3
DTSTAMP:20260423T193350Z
URL:https://www.neoshocc.com/events/details/chess-club-02-11-2026-19149
END:VEVENT

END:VCALENDAR
