BEGIN:VCALENDAR
VERSION:2.0
PRODID:-//ChamberMaster//Event Calendar 2.0//EN
METHOD:PUBLISH
X-PUBLISHED-TTL:P3D
REFRESH-INTERVAL:P3D
CALSCALE:GREGORIAN
BEGIN:VEVENT
DTSTART:20231015T000000Z
DTEND:20231015T020000Z
X-MICROSOFT-CDO-ALLDAYEVENT:FALSE
SUMMARY:Chicago Tap Theatre
DESCRIPTION:Chicago Tap Theatre (CTT) is a vibrant dance company that strives to preserve the dance form of tap while taking it to the next level of creativity and innovation. The troupe creates joyful\, story-based shows that engage audiences and educate them about this classic American dance. One of the most critically acclaimed dance companies in Chicago\, CTT's entertaining performances have been hailed by the Chicago Stage Standard as "[a] collision of unparalleled footwork\, live music and storytelling that dares the rest of the tap world to elevate its game.
X-ALT-DESC;FMTTYPE=text/html:Chicago Tap Theatre (CTT) is a vibrant dance company that strives to preserve the dance form of tap while taking it to the next level of creativity and innovation. The troupe creates joyful\, story-based shows that engage audiences and educate them about this classic American dance. One of the most critically acclaimed dance companies in Chicago\, CTT&rsquo\;s entertaining performances have been hailed by the Chicago Stage Standard as &ldquo\;[a] collision of unparalleled footwork\, live music and storytelling that dares the rest of the tap world to elevate its game.
LOCATION:Harry M. Cornell Arts & Entertainment Complex located at 212 West 7th Street. Joplin\, MO 64801
UID:e.2144.10787
SEQUENCE:3
DTSTAMP:20260425T121755Z
URL:https://www.neoshocc.com/events/details/chicago-tap-theatre-10787
END:VEVENT

END:VCALENDAR
