BEGIN:VCALENDAR
VERSION:2.0
PRODID:-//ChamberMaster//Event Calendar 2.0//EN
METHOD:PUBLISH
X-PUBLISHED-TTL:P3D
REFRESH-INTERVAL:P3D
CALSCALE:GREGORIAN
BEGIN:VEVENT
DTSTART:20250202T000000Z
DTEND:20250202T030000Z
X-MICROSOFT-CDO-ALLDAYEVENT:FALSE
SUMMARY:Chris Bassett Live Music at Eastside Social
DESCRIPTION:Live Music at Eastside Social\n\nOn February 1st\, join us at Eastside Social in Downtown Neosho for an evening of live music with Chris Bassett! From 6 PM to 9 PM\, enjoy his incredible performance while treating yourself to our delicious food and expertly crafted drinks.\n\nWe can't wait to share this special night with you see you downtown!
X-ALT-DESC;FMTTYPE=text/html:<p><strong>Live Music at Eastside Social</strong><br />\nOn<strong>&nbsp\;February 1st</strong>\, join us at <strong>Eastside Social in Downtown Neosho</strong> for an evening of live music with <strong>Chris Bassett</strong>! From 6 PM to 9 PM\, enjoy his incredible performance while treating yourself to our delicious food and expertly crafted drinks.</p>\n\n<p>We can&rsquo\;t wait to share this special night with you&mdash\;see you downtown!</p>\n
LOCATION:Eastside Social 113 S Washington St. Neosho\, Mo
UID:e.2144.14386
SEQUENCE:3
DTSTAMP:20260424T133443Z
URL:https://www.neoshocc.com/events/details/chris-bassett-live-music-at-eastside-social-02-01-2025-14386
END:VEVENT

END:VCALENDAR
