BEGIN:VCALENDAR
VERSION:2.0
PRODID:-//ChamberMaster//Event Calendar 2.0//EN
METHOD:PUBLISH
X-PUBLISHED-TTL:P3D
REFRESH-INTERVAL:P3D
CALSCALE:GREGORIAN
BEGIN:VEVENT
DTSTART:20250816T230000Z
DTEND:20250817T020000Z
X-MICROSOFT-CDO-ALLDAYEVENT:FALSE
SUMMARY:Chris Bassett Live Music at Eastside Social
DESCRIPTION:Spend your Saturday night with live music on the patio from Chris Bassett! He'll be playing a crowd-pleasing mix of covers that you'll know and love perfect for relaxing with friends\, enjoying great food\, and sipping on your favorite drink. Come hang out and make the most of a summer night at Eastside!
X-ALT-DESC;FMTTYPE=text/html:<span style="color:rgb(35\, 31\, 32)\; font-family:brandon-grotesque\; font-size:22.4px">Spend your Saturday night with live music on the patio from </span><strong>Chris Bassett</strong><span style="color:rgb(35\, 31\, 32)\; font-family:brandon-grotesque\; font-size:22.4px">! He&rsquo\;ll be playing a crowd-pleasing mix of covers that you&rsquo\;ll know and love&mdash\;perfect for relaxing with friends\, enjoying great food\, and sipping on your favorite drink. Come hang out and make the most of a summer night at Eastside!</span>
LOCATION:Eastside Social 113 S Washington St. Neosho\, Mo
UID:e.2144.17551
SEQUENCE:3
DTSTAMP:20260424T043538Z
URL:https://www.neoshocc.com/events/details/chris-bassett-live-music-at-eastside-social-08-16-2025-17551
END:VEVENT

END:VCALENDAR
