BEGIN:VCALENDAR
VERSION:2.0
PRODID:-//ChamberMaster//Event Calendar 2.0//EN
METHOD:PUBLISH
X-PUBLISHED-TTL:P3D
REFRESH-INTERVAL:P3D
CALSCALE:GREGORIAN
BEGIN:VEVENT
DTSTART:20251018T230000Z
DTEND:20251019T020000Z
X-MICROSOFT-CDO-ALLDAYEVENT:FALSE
SUMMARY:Chris Bassett Live Music at Eastside Social
DESCRIPTION:Chris Bassett Live Music at Eastside Social Oct 18th from 6pm to 9pm
X-ALT-DESC;FMTTYPE=text/html:Chris Bassett Live Music at Eastside Social Oct 18th from 6pm to 9pm&nbsp\;
LOCATION:Eastside Social 113 S Washington St Neosho Mo
UID:e.2144.18534
SEQUENCE:3
DTSTAMP:20260424T015415Z
URL:https://www.neoshocc.com/events/details/chris-bassett-live-music-at-eastside-social-10-18-2025-18534
END:VEVENT

END:VCALENDAR
