BEGIN:VCALENDAR
VERSION:2.0
PRODID:-//ChamberMaster//Event Calendar 2.0//EN
METHOD:PUBLISH
X-PUBLISHED-TTL:P3D
REFRESH-INTERVAL:P3D
CALSCALE:GREGORIAN
BEGIN:VEVENT
DTSTART:20241222T000000Z
DTEND:20241222T030000Z
X-MICROSOFT-CDO-ALLDAYEVENT:FALSE
SUMMARY:Chris Bassett Live Music at Eastside Social
DESCRIPTION:Join us at Eastside Social for an unforgettable evening with local legend Chris Bassett! Enjoy live music\, great company\, and the vibrant atmosphere of downtown Neosho. Don't miss out on this special performance mark your calendars and bring your friends!
X-ALT-DESC;FMTTYPE=text/html:<p>Join us at Eastside Social for an unforgettable evening with local legend Chris Bassett! Enjoy live music\, great company\, and the vibrant atmosphere of downtown Neosho. Don&rsquo\;t miss out on this special performance&mdash\;mark your calendars and bring your friends!</p>\n
LOCATION:Eastside Social Located at 113 S. Washington St Neosho\, Mo
UID:e.2144.13911
SEQUENCE:3
DTSTAMP:20260424T162010Z
URL:https://www.neoshocc.com/events/details/chris-bassett-live-music-at-eastside-social-13911
END:VEVENT

END:VCALENDAR
